BEGIN:VCALENDAR
VERSION:2.0
PRODID:-//destination.one//NONSGML destination.meta API//DE
X-WR-CALDESC:A calendar powered by destination.meta
X-WR-CALNAME:ostseebad-dierhagen Kalender via destination.meta
BEGIN:VEVENT
CATEGORIES:Kinder
CATEGORIES:Tanz\,Party & Disco
CATEGORIES:Markt & Fest
CATEGORIES:Niederdeutsches Brauchtum & Folklore
CATEGORIES:Open-Air
DESCRIPTION:Bühnenprogramm\, gemütliches Beisammensein und viele Leckereien
  für Groß & Klein\n\nmehr Informationen unter http://pages.destination.one
 /de/ostseebad-dierhagen/streaming/detail/Event/InfomaxEvent_96298/wustrowe
 r-fr-hlingsfest
DTEND;TZID=Europe/Berlin:20260424T230000
DTSTAMP:20260423T092221Z
DTSTART;TZID=Europe/Berlin:20260424T160000
GEO:54.346248;12.397284
LOCATION:Obstgarten am Haus des Gastes\, Ernst-Thälmann-Straße 11\, Ostseeb
 ad Wustrow
ORGANIZER;CN=Haus des Gastes:mailto:kurverwaltung@ostseebad-wustrow.de
SEQUENCE:0
SUMMARY:Wustrower Frühlingsfest
UID:InfomaxEvent_96298_iv0
URL:http://pages.destination.one/de/ostseebad-dierhagen/streaming/detail/Ev
 ent/InfomaxEvent_96298/wustrower-fr-hlingsfest
END:VEVENT
BEGIN:VTIMEZONE
TZID:Europe/Berlin
X-LIC-LOCATION:Europe/Berlin
BEGIN:DAYLIGHT
DTSTART:19700329T020000
RRULE:FREQ=YEARLY;BYDAY=-1SU;BYMONTH=3
TZNAME:CEST
TZOFFSETFROM:+0100
TZOFFSETTO:+0200
END:DAYLIGHT
BEGIN:STANDARD
DTSTART:19701025T030000
RRULE:FREQ=YEARLY;BYDAY=-1SU;BYMONTH=10
TZNAME:CET
TZOFFSETFROM:+0200
TZOFFSETTO:+0100
END:STANDARD
END:VTIMEZONE
END:VCALENDAR
