BEGIN:VCALENDAR
VERSION:2.0
PRODID:-//destination.one//NONSGML destination.meta API//DE
X-WR-CALDESC:A calendar powered by destination.meta
X-WR-CALNAME:ostseebad-dierhagen Kalender via destination.meta
BEGIN:VEVENT
CATEGORIES:Kinder
CATEGORIES:Reiten
CATEGORIES:Markt & Fest
CATEGORIES:Niederdeutsches Brauchtum & Folklore
CATEGORIES:Open-Air
DESCRIPTION:Traditionsveranstaltung\n\nmehr Informationen unter http://page
 s.destination.one/de/ostseebad-dierhagen/streaming/detail/Event/InfomaxEve
 nt_91513/wustrower-tonnenabschlagen
DTEND;TZID=Europe/Berlin:20260712T131500
DTSTAMP:20260423T092221Z
DTSTART;TZID=Europe/Berlin:20260712T130000
GEO:54.347760;12.392720
LOCATION:Festplatz Wustrow\, Direktor-Schütz-Weg\, Ostseebad Wustrow
ORGANIZER;CN=Haus des Gastes:mailto:kurverwaltung@ostseebad-wustrow.de
SEQUENCE:0
SUMMARY:Wustrower Tonnenabschlagen
UID:InfomaxEvent_91513_iv0
URL:http://pages.destination.one/de/ostseebad-dierhagen/streaming/detail/Ev
 ent/InfomaxEvent_91513/wustrower-tonnenabschlagen
END:VEVENT
BEGIN:VTIMEZONE
TZID:Europe/Berlin
X-LIC-LOCATION:Europe/Berlin
BEGIN:DAYLIGHT
DTSTART:19700329T020000
RRULE:FREQ=YEARLY;BYDAY=-1SU;BYMONTH=3
TZNAME:CEST
TZOFFSETFROM:+0100
TZOFFSETTO:+0200
END:DAYLIGHT
BEGIN:STANDARD
DTSTART:19701025T030000
RRULE:FREQ=YEARLY;BYDAY=-1SU;BYMONTH=10
TZNAME:CET
TZOFFSETFROM:+0200
TZOFFSETTO:+0100
END:STANDARD
END:VTIMEZONE
END:VCALENDAR
