BEGIN:VCALENDAR
VERSION:2.0
PRODID:-//destination.one//NONSGML destination.meta API//DE
X-WR-CALDESC:A calendar powered by destination.meta
X-WR-CALNAME:ostseebad-dierhagen Kalender via destination.meta
BEGIN:VEVENT
CATEGORIES:Ausstellung
CATEGORIES:Kinder
CATEGORIES:Open-Air
CATEGORIES:natürlich romantisch
CATEGORIES:Outdoor-Aktivität
DESCRIPTION:Ein buntes wie vielfältiges Modelltreffen.\n\nmehr Informatione
 n unter http://pages.destination.one/de/ostseebad-dierhagen/streaming/deta
 il/Event/InfomaxEvent_72372/modellbauwochenende
DTEND;TZID=Europe/Berlin:20260711T180000
DTSTAMP:20260424T082457Z
DTSTART;TZID=Europe/Berlin:20260711T100000
GEO:54.240580;12.355920
LOCATION:Freilichtmuseum Klockenhagen\, Mecklenburger Straße 57\, Ribnitz-D
 amgarten OT Klockenhagen
ORGANIZER;CN=Freilichtmuseum Klockenhagen:mailto:info@freilichtmuseum-klock
 enhagen.de
SEQUENCE:0
SUMMARY: Modellbauwochenende
UID:InfomaxEvent_72372_iv0
URL:http://pages.destination.one/de/ostseebad-dierhagen/streaming/detail/Ev
 ent/InfomaxEvent_72372/modellbauwochenende
END:VEVENT
BEGIN:VEVENT
CATEGORIES:Ausstellung
CATEGORIES:Kinder
CATEGORIES:Open-Air
CATEGORIES:natürlich romantisch
CATEGORIES:Outdoor-Aktivität
DESCRIPTION:Ein buntes wie vielfältiges Modelltreffen.\n\nmehr Informatione
 n unter http://pages.destination.one/de/ostseebad-dierhagen/streaming/deta
 il/Event/InfomaxEvent_72372/modellbauwochenende
DTEND;TZID=Europe/Berlin:20260712T180000
DTSTAMP:20260424T082457Z
DTSTART;TZID=Europe/Berlin:20260712T100000
GEO:54.240580;12.355920
LOCATION:Freilichtmuseum Klockenhagen\, Mecklenburger Straße 57\, Ribnitz-D
 amgarten OT Klockenhagen
ORGANIZER;CN=Freilichtmuseum Klockenhagen:mailto:info@freilichtmuseum-klock
 enhagen.de
SEQUENCE:0
SUMMARY: Modellbauwochenende
UID:InfomaxEvent_72372_iv1
URL:http://pages.destination.one/de/ostseebad-dierhagen/streaming/detail/Ev
 ent/InfomaxEvent_72372/modellbauwochenende
END:VEVENT
BEGIN:VTIMEZONE
TZID:Europe/Berlin
X-LIC-LOCATION:Europe/Berlin
BEGIN:DAYLIGHT
DTSTART:19700329T020000
RRULE:FREQ=YEARLY;BYDAY=-1SU;BYMONTH=3
TZNAME:CEST
TZOFFSETFROM:+0100
TZOFFSETTO:+0200
END:DAYLIGHT
BEGIN:STANDARD
DTSTART:19701025T030000
RRULE:FREQ=YEARLY;BYDAY=-1SU;BYMONTH=10
TZNAME:CET
TZOFFSETFROM:+0200
TZOFFSETTO:+0100
END:STANDARD
END:VTIMEZONE
END:VCALENDAR
