BEGIN:VCALENDAR
VERSION:2.0
PRODID:-//destination.one//NONSGML destination.meta API//DE
X-WR-CALDESC:A calendar powered by destination.meta
X-WR-CALNAME:ostseebad-dierhagen Kalender via destination.meta
BEGIN:VEVENT
CATEGORIES:Kinder
CATEGORIES:Kulinarik
CATEGORIES:Natur
CATEGORIES:Niederdeutsches Brauchtum & Folklore
DESCRIPTION:Die und Apfelpresse läuft auf Hochtouren\, die Mostis sind vor 
 Ort\, überall warten kulinarische Herbstleckereien.\n\nmehr Informationen 
 unter http://pages.destination.one/de/ostseebad-dierhagen/streaming/detail
 /Event/InfomaxEvent_62904/herbstfest
DTEND;TZID=Europe/Berlin:20261018T170000
DTSTAMP:20260424T082457Z
DTSTART;TZID=Europe/Berlin:20261018T100000
GEO:54.240580;12.355920
LOCATION:Freilichtmuseum Klockenhagen\, Mecklenburger Straße 57\, Ribnitz-D
 amgarten OT Klockenhagen
ORGANIZER;CN=Freilichtmuseum Klockenhagen:mailto:info@freilichtmuseum-klock
 enhagen.de
SEQUENCE:0
SUMMARY:Herbstfest
UID:InfomaxEvent_62904_iv0
URL:http://pages.destination.one/de/ostseebad-dierhagen/streaming/detail/Ev
 ent/InfomaxEvent_62904/herbstfest
END:VEVENT
BEGIN:VTIMEZONE
TZID:Europe/Berlin
X-LIC-LOCATION:Europe/Berlin
BEGIN:DAYLIGHT
DTSTART:19700329T020000
RRULE:FREQ=YEARLY;BYDAY=-1SU;BYMONTH=3
TZNAME:CEST
TZOFFSETFROM:+0100
TZOFFSETTO:+0200
END:DAYLIGHT
BEGIN:STANDARD
DTSTART:19701025T030000
RRULE:FREQ=YEARLY;BYDAY=-1SU;BYMONTH=10
TZNAME:CET
TZOFFSETFROM:+0200
TZOFFSETTO:+0100
END:STANDARD
END:VTIMEZONE
END:VCALENDAR
