BEGIN:VCALENDAR
VERSION:2.0
PRODID:-//destination.one//NONSGML destination.meta API//DE
X-WR-CALDESC:A calendar powered by destination.meta
X-WR-CALNAME:ostseebad-dierhagen Kalender via destination.meta
BEGIN:VEVENT
CATEGORIES:Natur
CATEGORIES:Open-Air
CATEGORIES:natürlich romantisch
DESCRIPTION:Besondere Musik an besonderen Orten ist von Anfang an das Thema
  der Konzertreihe.\n\nmehr Informationen unter http://pages.destination.on
 e/de/ostseebad-dierhagen/streaming/detail/Event/InfomaxEvent_62898/naturkl
 -nge-im-freilichtmuseum-klockenhagen
DTEND;TZID=Europe/Berlin:20260723T210000
DTSTAMP:20260423T083305Z
DTSTART;TZID=Europe/Berlin:20260723T180000
GEO:54.240580;12.355920
LOCATION:Freilichtmuseum Klockenhagen\, Mecklenburger Straße 57\, Ribnitz-D
 amgarten OT Klockenhagen
ORGANIZER;CN=Freilichtmuseum Klockenhagen:mailto:info@freilichtmuseum-klock
 enhagen.de
SEQUENCE:0
SUMMARY:Naturklänge im Freilichtmuseum Klockenhagen
UID:InfomaxEvent_62898_iv0
URL:http://pages.destination.one/de/ostseebad-dierhagen/streaming/detail/Ev
 ent/InfomaxEvent_62898/naturkl-nge-im-freilichtmuseum-klockenhagen
END:VEVENT
BEGIN:VTIMEZONE
TZID:Europe/Berlin
X-LIC-LOCATION:Europe/Berlin
BEGIN:DAYLIGHT
DTSTART:19700329T020000
RRULE:FREQ=YEARLY;BYDAY=-1SU;BYMONTH=3
TZNAME:CEST
TZOFFSETFROM:+0100
TZOFFSETTO:+0200
END:DAYLIGHT
BEGIN:STANDARD
DTSTART:19701025T030000
RRULE:FREQ=YEARLY;BYDAY=-1SU;BYMONTH=10
TZNAME:CET
TZOFFSETFROM:+0200
TZOFFSETTO:+0100
END:STANDARD
END:VTIMEZONE
END:VCALENDAR
