BEGIN:VCALENDAR
VERSION:2.0
PRODID:-//destination.one//NONSGML destination.meta API//DE
X-WR-CALDESC:A calendar powered by destination.meta
X-WR-CALNAME:ostseebad-dierhagen Kalender via destination.meta
BEGIN:VEVENT
CATEGORIES:Reiten
CATEGORIES:Niederdeutsches Brauchtum & Folklore
DESCRIPTION:Traditionsreiche\, mittlerweile als immaterielles Kulturerbe an
 erkannte Pferdesportveranstaltung in Mecklenburg-Vorpommern.\n\nmehr Infor
 mationen unter http://pages.destination.one/de/ostseebad-dierhagen/streami
 ng/detail/Event/InfomaxEvent_62894/tonnenabschlagen-in-klockenhagen
DTEND;TZID=Europe/Berlin:20260725T180000
DTSTAMP:20260423T083219Z
DTSTART;TZID=Europe/Berlin:20260725T100000
GEO:54.240580;12.355920
LOCATION:Freilichtmuseum Klockenhagen\, Mecklenburger Straße 57\, Ribnitz-D
 amgarten OT Klockenhagen
ORGANIZER;CN=Freilichtmuseum Klockenhagen:mailto:info@freilichtmuseum-klock
 enhagen.de
SEQUENCE:0
SUMMARY: Tonnenabschlagen in Klockenhagen
UID:InfomaxEvent_62894_iv0
URL:http://pages.destination.one/de/ostseebad-dierhagen/streaming/detail/Ev
 ent/InfomaxEvent_62894/tonnenabschlagen-in-klockenhagen
END:VEVENT
BEGIN:VTIMEZONE
TZID:Europe/Berlin
X-LIC-LOCATION:Europe/Berlin
BEGIN:DAYLIGHT
DTSTART:19700329T020000
RRULE:FREQ=YEARLY;BYDAY=-1SU;BYMONTH=3
TZNAME:CEST
TZOFFSETFROM:+0100
TZOFFSETTO:+0200
END:DAYLIGHT
BEGIN:STANDARD
DTSTART:19701025T030000
RRULE:FREQ=YEARLY;BYDAY=-1SU;BYMONTH=10
TZNAME:CET
TZOFFSETFROM:+0200
TZOFFSETTO:+0100
END:STANDARD
END:VTIMEZONE
END:VCALENDAR
