BEGIN:VCALENDAR
VERSION:2.0
PRODID:-//destination.one//NONSGML destination.meta API//DE
X-WR-CALDESC:A calendar powered by destination.meta
X-WR-CALNAME:ostseebad-dierhagen Kalender via destination.meta
BEGIN:VEVENT
CATEGORIES:Kulinarik
CATEGORIES:Markt & Fest
DESCRIPTION:Regionale und ökologische Köstlichkeiten\n\nmehr Informationen 
 unter http://pages.destination.one/de/ostseebad-dierhagen/streaming/detail
 /Event/InfomaxEvent_35073/sommerfrischemarkt-in-ahrenshoop
DTEND;TZID=Europe/Berlin:20260528T130000
DTSTAMP:20260423T092331Z
DTSTART;TZID=Europe/Berlin:20260528T090000
GEO:54.377220;12.415880
LOCATION:Wiese neben dem Spielplatz in der Ortsmitte\, Althäger Straße\, Ah
 renshoop
ORGANIZER;CN=Christian Härting:https://www.gutes-aus-neuenrost.de/
SEQUENCE:0
SUMMARY:Sommerfrischemarkt in Ahrenshoop
UID:InfomaxEvent_35073_iv0
URL:http://pages.destination.one/de/ostseebad-dierhagen/streaming/detail/Ev
 ent/InfomaxEvent_35073/sommerfrischemarkt-in-ahrenshoop
END:VEVENT
BEGIN:VEVENT
CATEGORIES:Kulinarik
CATEGORIES:Markt & Fest
DESCRIPTION:Regionale und ökologische Köstlichkeiten\n\nmehr Informationen 
 unter http://pages.destination.one/de/ostseebad-dierhagen/streaming/detail
 /Event/InfomaxEvent_35073/sommerfrischemarkt-in-ahrenshoop
DTEND;TZID=Europe/Berlin:20260604T130000
DTSTAMP:20260423T092331Z
DTSTART;TZID=Europe/Berlin:20260604T090000
GEO:54.377220;12.415880
LOCATION:Wiese neben dem Spielplatz in der Ortsmitte\, Althäger Straße\, Ah
 renshoop
ORGANIZER;CN=Christian Härting:https://www.gutes-aus-neuenrost.de/
SEQUENCE:0
SUMMARY:Sommerfrischemarkt in Ahrenshoop
UID:InfomaxEvent_35073_iv1
URL:http://pages.destination.one/de/ostseebad-dierhagen/streaming/detail/Ev
 ent/InfomaxEvent_35073/sommerfrischemarkt-in-ahrenshoop
END:VEVENT
BEGIN:VEVENT
CATEGORIES:Kulinarik
CATEGORIES:Markt & Fest
DESCRIPTION:Regionale und ökologische Köstlichkeiten\n\nmehr Informationen 
 unter http://pages.destination.one/de/ostseebad-dierhagen/streaming/detail
 /Event/InfomaxEvent_35073/sommerfrischemarkt-in-ahrenshoop
DTEND;TZID=Europe/Berlin:20260611T130000
DTSTAMP:20260423T092331Z
DTSTART;TZID=Europe/Berlin:20260611T090000
GEO:54.377220;12.415880
LOCATION:Wiese neben dem Spielplatz in der Ortsmitte\, Althäger Straße\, Ah
 renshoop
ORGANIZER;CN=Christian Härting:https://www.gutes-aus-neuenrost.de/
SEQUENCE:0
SUMMARY:Sommerfrischemarkt in Ahrenshoop
UID:InfomaxEvent_35073_iv2
URL:http://pages.destination.one/de/ostseebad-dierhagen/streaming/detail/Ev
 ent/InfomaxEvent_35073/sommerfrischemarkt-in-ahrenshoop
END:VEVENT
BEGIN:VEVENT
CATEGORIES:Kulinarik
CATEGORIES:Markt & Fest
DESCRIPTION:Regionale und ökologische Köstlichkeiten\n\nmehr Informationen 
 unter http://pages.destination.one/de/ostseebad-dierhagen/streaming/detail
 /Event/InfomaxEvent_35073/sommerfrischemarkt-in-ahrenshoop
DTEND;TZID=Europe/Berlin:20260618T130000
DTSTAMP:20260423T092331Z
DTSTART;TZID=Europe/Berlin:20260618T090000
GEO:54.377220;12.415880
LOCATION:Wiese neben dem Spielplatz in der Ortsmitte\, Althäger Straße\, Ah
 renshoop
ORGANIZER;CN=Christian Härting:https://www.gutes-aus-neuenrost.de/
SEQUENCE:0
SUMMARY:Sommerfrischemarkt in Ahrenshoop
UID:InfomaxEvent_35073_iv3
URL:http://pages.destination.one/de/ostseebad-dierhagen/streaming/detail/Ev
 ent/InfomaxEvent_35073/sommerfrischemarkt-in-ahrenshoop
END:VEVENT
BEGIN:VEVENT
CATEGORIES:Kulinarik
CATEGORIES:Markt & Fest
DESCRIPTION:Regionale und ökologische Köstlichkeiten\n\nmehr Informationen 
 unter http://pages.destination.one/de/ostseebad-dierhagen/streaming/detail
 /Event/InfomaxEvent_35073/sommerfrischemarkt-in-ahrenshoop
DTEND;TZID=Europe/Berlin:20260625T130000
DTSTAMP:20260423T092331Z
DTSTART;TZID=Europe/Berlin:20260625T090000
GEO:54.377220;12.415880
LOCATION:Wiese neben dem Spielplatz in der Ortsmitte\, Althäger Straße\, Ah
 renshoop
ORGANIZER;CN=Christian Härting:https://www.gutes-aus-neuenrost.de/
SEQUENCE:0
SUMMARY:Sommerfrischemarkt in Ahrenshoop
UID:InfomaxEvent_35073_iv4
URL:http://pages.destination.one/de/ostseebad-dierhagen/streaming/detail/Ev
 ent/InfomaxEvent_35073/sommerfrischemarkt-in-ahrenshoop
END:VEVENT
BEGIN:VEVENT
CATEGORIES:Kulinarik
CATEGORIES:Markt & Fest
DESCRIPTION:Regionale und ökologische Köstlichkeiten\n\nmehr Informationen 
 unter http://pages.destination.one/de/ostseebad-dierhagen/streaming/detail
 /Event/InfomaxEvent_35073/sommerfrischemarkt-in-ahrenshoop
DTEND;TZID=Europe/Berlin:20260702T130000
DTSTAMP:20260423T092331Z
DTSTART;TZID=Europe/Berlin:20260702T090000
GEO:54.377220;12.415880
LOCATION:Wiese neben dem Spielplatz in der Ortsmitte\, Althäger Straße\, Ah
 renshoop
ORGANIZER;CN=Christian Härting:https://www.gutes-aus-neuenrost.de/
SEQUENCE:0
SUMMARY:Sommerfrischemarkt in Ahrenshoop
UID:InfomaxEvent_35073_iv5
URL:http://pages.destination.one/de/ostseebad-dierhagen/streaming/detail/Ev
 ent/InfomaxEvent_35073/sommerfrischemarkt-in-ahrenshoop
END:VEVENT
BEGIN:VEVENT
CATEGORIES:Kulinarik
CATEGORIES:Markt & Fest
DESCRIPTION:Regionale und ökologische Köstlichkeiten\n\nmehr Informationen 
 unter http://pages.destination.one/de/ostseebad-dierhagen/streaming/detail
 /Event/InfomaxEvent_35073/sommerfrischemarkt-in-ahrenshoop
DTEND;TZID=Europe/Berlin:20260709T130000
DTSTAMP:20260423T092331Z
DTSTART;TZID=Europe/Berlin:20260709T090000
GEO:54.377220;12.415880
LOCATION:Wiese neben dem Spielplatz in der Ortsmitte\, Althäger Straße\, Ah
 renshoop
ORGANIZER;CN=Christian Härting:https://www.gutes-aus-neuenrost.de/
SEQUENCE:0
SUMMARY:Sommerfrischemarkt in Ahrenshoop
UID:InfomaxEvent_35073_iv6
URL:http://pages.destination.one/de/ostseebad-dierhagen/streaming/detail/Ev
 ent/InfomaxEvent_35073/sommerfrischemarkt-in-ahrenshoop
END:VEVENT
BEGIN:VEVENT
CATEGORIES:Kulinarik
CATEGORIES:Markt & Fest
DESCRIPTION:Regionale und ökologische Köstlichkeiten\n\nmehr Informationen 
 unter http://pages.destination.one/de/ostseebad-dierhagen/streaming/detail
 /Event/InfomaxEvent_35073/sommerfrischemarkt-in-ahrenshoop
DTEND;TZID=Europe/Berlin:20260716T130000
DTSTAMP:20260423T092331Z
DTSTART;TZID=Europe/Berlin:20260716T090000
GEO:54.377220;12.415880
LOCATION:Wiese neben dem Spielplatz in der Ortsmitte\, Althäger Straße\, Ah
 renshoop
ORGANIZER;CN=Christian Härting:https://www.gutes-aus-neuenrost.de/
SEQUENCE:0
SUMMARY:Sommerfrischemarkt in Ahrenshoop
UID:InfomaxEvent_35073_iv7
URL:http://pages.destination.one/de/ostseebad-dierhagen/streaming/detail/Ev
 ent/InfomaxEvent_35073/sommerfrischemarkt-in-ahrenshoop
END:VEVENT
BEGIN:VEVENT
CATEGORIES:Kulinarik
CATEGORIES:Markt & Fest
DESCRIPTION:Regionale und ökologische Köstlichkeiten\n\nmehr Informationen 
 unter http://pages.destination.one/de/ostseebad-dierhagen/streaming/detail
 /Event/InfomaxEvent_35073/sommerfrischemarkt-in-ahrenshoop
DTEND;TZID=Europe/Berlin:20260723T130000
DTSTAMP:20260423T092331Z
DTSTART;TZID=Europe/Berlin:20260723T090000
GEO:54.377220;12.415880
LOCATION:Wiese neben dem Spielplatz in der Ortsmitte\, Althäger Straße\, Ah
 renshoop
ORGANIZER;CN=Christian Härting:https://www.gutes-aus-neuenrost.de/
SEQUENCE:0
SUMMARY:Sommerfrischemarkt in Ahrenshoop
UID:InfomaxEvent_35073_iv8
URL:http://pages.destination.one/de/ostseebad-dierhagen/streaming/detail/Ev
 ent/InfomaxEvent_35073/sommerfrischemarkt-in-ahrenshoop
END:VEVENT
BEGIN:VEVENT
CATEGORIES:Kulinarik
CATEGORIES:Markt & Fest
DESCRIPTION:Regionale und ökologische Köstlichkeiten\n\nmehr Informationen 
 unter http://pages.destination.one/de/ostseebad-dierhagen/streaming/detail
 /Event/InfomaxEvent_35073/sommerfrischemarkt-in-ahrenshoop
DTEND;TZID=Europe/Berlin:20260730T130000
DTSTAMP:20260423T092331Z
DTSTART;TZID=Europe/Berlin:20260730T090000
GEO:54.377220;12.415880
LOCATION:Wiese neben dem Spielplatz in der Ortsmitte\, Althäger Straße\, Ah
 renshoop
ORGANIZER;CN=Christian Härting:https://www.gutes-aus-neuenrost.de/
SEQUENCE:0
SUMMARY:Sommerfrischemarkt in Ahrenshoop
UID:InfomaxEvent_35073_iv9
URL:http://pages.destination.one/de/ostseebad-dierhagen/streaming/detail/Ev
 ent/InfomaxEvent_35073/sommerfrischemarkt-in-ahrenshoop
END:VEVENT
BEGIN:VEVENT
CATEGORIES:Kulinarik
CATEGORIES:Markt & Fest
DESCRIPTION:Regionale und ökologische Köstlichkeiten\n\nmehr Informationen 
 unter http://pages.destination.one/de/ostseebad-dierhagen/streaming/detail
 /Event/InfomaxEvent_35073/sommerfrischemarkt-in-ahrenshoop
DTEND;TZID=Europe/Berlin:20260806T130000
DTSTAMP:20260423T092331Z
DTSTART;TZID=Europe/Berlin:20260806T090000
GEO:54.377220;12.415880
LOCATION:Wiese neben dem Spielplatz in der Ortsmitte\, Althäger Straße\, Ah
 renshoop
ORGANIZER;CN=Christian Härting:https://www.gutes-aus-neuenrost.de/
SEQUENCE:0
SUMMARY:Sommerfrischemarkt in Ahrenshoop
UID:InfomaxEvent_35073_iv10
URL:http://pages.destination.one/de/ostseebad-dierhagen/streaming/detail/Ev
 ent/InfomaxEvent_35073/sommerfrischemarkt-in-ahrenshoop
END:VEVENT
BEGIN:VEVENT
CATEGORIES:Kulinarik
CATEGORIES:Markt & Fest
DESCRIPTION:Regionale und ökologische Köstlichkeiten\n\nmehr Informationen 
 unter http://pages.destination.one/de/ostseebad-dierhagen/streaming/detail
 /Event/InfomaxEvent_35073/sommerfrischemarkt-in-ahrenshoop
DTEND;TZID=Europe/Berlin:20260813T130000
DTSTAMP:20260423T092331Z
DTSTART;TZID=Europe/Berlin:20260813T090000
GEO:54.377220;12.415880
LOCATION:Wiese neben dem Spielplatz in der Ortsmitte\, Althäger Straße\, Ah
 renshoop
ORGANIZER;CN=Christian Härting:https://www.gutes-aus-neuenrost.de/
SEQUENCE:0
SUMMARY:Sommerfrischemarkt in Ahrenshoop
UID:InfomaxEvent_35073_iv11
URL:http://pages.destination.one/de/ostseebad-dierhagen/streaming/detail/Ev
 ent/InfomaxEvent_35073/sommerfrischemarkt-in-ahrenshoop
END:VEVENT
BEGIN:VEVENT
CATEGORIES:Kulinarik
CATEGORIES:Markt & Fest
DESCRIPTION:Regionale und ökologische Köstlichkeiten\n\nmehr Informationen 
 unter http://pages.destination.one/de/ostseebad-dierhagen/streaming/detail
 /Event/InfomaxEvent_35073/sommerfrischemarkt-in-ahrenshoop
DTEND;TZID=Europe/Berlin:20260820T130000
DTSTAMP:20260423T092331Z
DTSTART;TZID=Europe/Berlin:20260820T090000
GEO:54.377220;12.415880
LOCATION:Wiese neben dem Spielplatz in der Ortsmitte\, Althäger Straße\, Ah
 renshoop
ORGANIZER;CN=Christian Härting:https://www.gutes-aus-neuenrost.de/
SEQUENCE:0
SUMMARY:Sommerfrischemarkt in Ahrenshoop
UID:InfomaxEvent_35073_iv12
URL:http://pages.destination.one/de/ostseebad-dierhagen/streaming/detail/Ev
 ent/InfomaxEvent_35073/sommerfrischemarkt-in-ahrenshoop
END:VEVENT
BEGIN:VEVENT
CATEGORIES:Kulinarik
CATEGORIES:Markt & Fest
DESCRIPTION:Regionale und ökologische Köstlichkeiten\n\nmehr Informationen 
 unter http://pages.destination.one/de/ostseebad-dierhagen/streaming/detail
 /Event/InfomaxEvent_35073/sommerfrischemarkt-in-ahrenshoop
DTEND;TZID=Europe/Berlin:20260827T130000
DTSTAMP:20260423T092331Z
DTSTART;TZID=Europe/Berlin:20260827T090000
GEO:54.377220;12.415880
LOCATION:Wiese neben dem Spielplatz in der Ortsmitte\, Althäger Straße\, Ah
 renshoop
ORGANIZER;CN=Christian Härting:https://www.gutes-aus-neuenrost.de/
SEQUENCE:0
SUMMARY:Sommerfrischemarkt in Ahrenshoop
UID:InfomaxEvent_35073_iv13
URL:http://pages.destination.one/de/ostseebad-dierhagen/streaming/detail/Ev
 ent/InfomaxEvent_35073/sommerfrischemarkt-in-ahrenshoop
END:VEVENT
BEGIN:VEVENT
CATEGORIES:Kulinarik
CATEGORIES:Markt & Fest
DESCRIPTION:Regionale und ökologische Köstlichkeiten\n\nmehr Informationen 
 unter http://pages.destination.one/de/ostseebad-dierhagen/streaming/detail
 /Event/InfomaxEvent_35073/sommerfrischemarkt-in-ahrenshoop
DTEND;TZID=Europe/Berlin:20260903T130000
DTSTAMP:20260423T092331Z
DTSTART;TZID=Europe/Berlin:20260903T090000
GEO:54.377220;12.415880
LOCATION:Wiese neben dem Spielplatz in der Ortsmitte\, Althäger Straße\, Ah
 renshoop
ORGANIZER;CN=Christian Härting:https://www.gutes-aus-neuenrost.de/
SEQUENCE:0
SUMMARY:Sommerfrischemarkt in Ahrenshoop
UID:InfomaxEvent_35073_iv14
URL:http://pages.destination.one/de/ostseebad-dierhagen/streaming/detail/Ev
 ent/InfomaxEvent_35073/sommerfrischemarkt-in-ahrenshoop
END:VEVENT
BEGIN:VEVENT
CATEGORIES:Kulinarik
CATEGORIES:Markt & Fest
DESCRIPTION:Regionale und ökologische Köstlichkeiten\n\nmehr Informationen 
 unter http://pages.destination.one/de/ostseebad-dierhagen/streaming/detail
 /Event/InfomaxEvent_35073/sommerfrischemarkt-in-ahrenshoop
DTEND;TZID=Europe/Berlin:20260910T130000
DTSTAMP:20260423T092331Z
DTSTART;TZID=Europe/Berlin:20260910T090000
GEO:54.377220;12.415880
LOCATION:Wiese neben dem Spielplatz in der Ortsmitte\, Althäger Straße\, Ah
 renshoop
ORGANIZER;CN=Christian Härting:https://www.gutes-aus-neuenrost.de/
SEQUENCE:0
SUMMARY:Sommerfrischemarkt in Ahrenshoop
UID:InfomaxEvent_35073_iv15
URL:http://pages.destination.one/de/ostseebad-dierhagen/streaming/detail/Ev
 ent/InfomaxEvent_35073/sommerfrischemarkt-in-ahrenshoop
END:VEVENT
BEGIN:VEVENT
CATEGORIES:Kulinarik
CATEGORIES:Markt & Fest
DESCRIPTION:Regionale und ökologische Köstlichkeiten\n\nmehr Informationen 
 unter http://pages.destination.one/de/ostseebad-dierhagen/streaming/detail
 /Event/InfomaxEvent_35073/sommerfrischemarkt-in-ahrenshoop
DTEND;TZID=Europe/Berlin:20260917T130000
DTSTAMP:20260423T092331Z
DTSTART;TZID=Europe/Berlin:20260917T090000
GEO:54.377220;12.415880
LOCATION:Wiese neben dem Spielplatz in der Ortsmitte\, Althäger Straße\, Ah
 renshoop
ORGANIZER;CN=Christian Härting:https://www.gutes-aus-neuenrost.de/
SEQUENCE:0
SUMMARY:Sommerfrischemarkt in Ahrenshoop
UID:InfomaxEvent_35073_iv16
URL:http://pages.destination.one/de/ostseebad-dierhagen/streaming/detail/Ev
 ent/InfomaxEvent_35073/sommerfrischemarkt-in-ahrenshoop
END:VEVENT
BEGIN:VEVENT
CATEGORIES:Kulinarik
CATEGORIES:Markt & Fest
DESCRIPTION:Regionale und ökologische Köstlichkeiten\n\nmehr Informationen 
 unter http://pages.destination.one/de/ostseebad-dierhagen/streaming/detail
 /Event/InfomaxEvent_35073/sommerfrischemarkt-in-ahrenshoop
DTEND;TZID=Europe/Berlin:20260924T130000
DTSTAMP:20260423T092331Z
DTSTART;TZID=Europe/Berlin:20260924T090000
GEO:54.377220;12.415880
LOCATION:Wiese neben dem Spielplatz in der Ortsmitte\, Althäger Straße\, Ah
 renshoop
ORGANIZER;CN=Christian Härting:https://www.gutes-aus-neuenrost.de/
SEQUENCE:0
SUMMARY:Sommerfrischemarkt in Ahrenshoop
UID:InfomaxEvent_35073_iv17
URL:http://pages.destination.one/de/ostseebad-dierhagen/streaming/detail/Ev
 ent/InfomaxEvent_35073/sommerfrischemarkt-in-ahrenshoop
END:VEVENT
BEGIN:VEVENT
CATEGORIES:Kulinarik
CATEGORIES:Markt & Fest
DESCRIPTION:Regionale und ökologische Köstlichkeiten\n\nmehr Informationen 
 unter http://pages.destination.one/de/ostseebad-dierhagen/streaming/detail
 /Event/InfomaxEvent_35073/sommerfrischemarkt-in-ahrenshoop
DTEND;TZID=Europe/Berlin:20261001T130000
DTSTAMP:20260423T092331Z
DTSTART;TZID=Europe/Berlin:20261001T090000
GEO:54.377220;12.415880
LOCATION:Wiese neben dem Spielplatz in der Ortsmitte\, Althäger Straße\, Ah
 renshoop
ORGANIZER;CN=Christian Härting:https://www.gutes-aus-neuenrost.de/
SEQUENCE:0
SUMMARY:Sommerfrischemarkt in Ahrenshoop
UID:InfomaxEvent_35073_iv18
URL:http://pages.destination.one/de/ostseebad-dierhagen/streaming/detail/Ev
 ent/InfomaxEvent_35073/sommerfrischemarkt-in-ahrenshoop
END:VEVENT
BEGIN:VTIMEZONE
TZID:Europe/Berlin
X-LIC-LOCATION:Europe/Berlin
BEGIN:DAYLIGHT
DTSTART:19700329T020000
RRULE:FREQ=YEARLY;BYDAY=-1SU;BYMONTH=3
TZNAME:CEST
TZOFFSETFROM:+0100
TZOFFSETTO:+0200
END:DAYLIGHT
BEGIN:STANDARD
DTSTART:19701025T030000
RRULE:FREQ=YEARLY;BYDAY=-1SU;BYMONTH=10
TZNAME:CET
TZOFFSETFROM:+0200
TZOFFSETTO:+0100
END:STANDARD
END:VTIMEZONE
END:VCALENDAR
