BEGIN:VCALENDAR
VERSION:2.0
PRODID:-//destination.one//NONSGML destination.meta API//DE
X-WR-CALDESC:A calendar powered by destination.meta
X-WR-CALNAME:ostseebad-dierhagen Kalender via destination.meta
BEGIN:VEVENT
CATEGORIES:Weltmusik
CATEGORIES:Theater & Bühne
DESCRIPTION:Eine akustische Reise aus Texten & Melodien mit dem Duo Mundstü
 cke\n\nmehr Informationen unter http://pages.destination.one/de/ostseebad-
 dierhagen/streaming/detail/Event/InfomaxEvent_160032/vom-wachsen
DTEND;TZID=Europe/Berlin:20260429T201500
DTSTAMP:20260423T091344Z
DTSTART;TZID=Europe/Berlin:20260429T200000
GEO:54.382609;12.425134
LOCATION:Schifferkirche Ahrenshoop\, Paetowweg 5\, Ahrenshoop
SEQUENCE:0
SUMMARY:Vom Wachsen 
UID:InfomaxEvent_160032_iv0
URL:http://pages.destination.one/de/ostseebad-dierhagen/streaming/detail/Ev
 ent/InfomaxEvent_160032/vom-wachsen
END:VEVENT
BEGIN:VTIMEZONE
TZID:Europe/Berlin
X-LIC-LOCATION:Europe/Berlin
BEGIN:DAYLIGHT
DTSTART:19700329T020000
RRULE:FREQ=YEARLY;BYDAY=-1SU;BYMONTH=3
TZNAME:CEST
TZOFFSETFROM:+0100
TZOFFSETTO:+0200
END:DAYLIGHT
BEGIN:STANDARD
DTSTART:19701025T030000
RRULE:FREQ=YEARLY;BYDAY=-1SU;BYMONTH=10
TZNAME:CET
TZOFFSETFROM:+0200
TZOFFSETTO:+0100
END:STANDARD
END:VTIMEZONE
END:VCALENDAR
