BEGIN:VCALENDAR
VERSION:2.0
PRODID:-//destination.one//NONSGML destination.meta API//DE
X-WR-CALDESC:A calendar powered by destination.meta
X-WR-CALNAME:ostseebad-dierhagen Kalender via destination.meta
BEGIN:VEVENT
CATEGORIES:Kinder
CATEGORIES:Theater & Bühne
CATEGORIES:Open-Air
DESCRIPTION:Ein Figurentheater frei nach der Geschichte von Martin Auer für
  Kinder ab 4 Jahren.\n\nmehr Informationen unter http://pages.destination.
 one/de/ostseebad-dierhagen/streaming/detail/Event/InfomaxEvent_160006/kind
 ersommer-prerow-lieschen-radieschen-und-der-l-mmergeier
DTEND;TZID=Europe/Berlin:20260730T101500
DTSTAMP:20260421T075853Z
DTSTART;TZID=Europe/Berlin:20260730T100000
GEO:54.449560;12.566040
LOCATION:Freilichtbühne Prerow\, Hauptaufgang 1A\, Prerow
ORGANIZER;CN=Kur- und Tourismusbetrieb Prerow:mailto:info@ostseebad-prerow.
 de
SEQUENCE:0
SUMMARY:Kindersommer Prerow: LIESCHEN RADIESCHEN UND DER LÄMMERGEIER
UID:InfomaxEvent_160006_iv0
URL:http://pages.destination.one/de/ostseebad-dierhagen/streaming/detail/Ev
 ent/InfomaxEvent_160006/kindersommer-prerow-lieschen-radieschen-und-der-l-
 mmergeier
END:VEVENT
BEGIN:VEVENT
CATEGORIES:Kinder
CATEGORIES:Theater & Bühne
CATEGORIES:Open-Air
DESCRIPTION:Ein Figurentheater frei nach der Geschichte von Martin Auer für
  Kinder ab 4 Jahren.\n\nmehr Informationen unter http://pages.destination.
 one/de/ostseebad-dierhagen/streaming/detail/Event/InfomaxEvent_160006/kind
 ersommer-prerow-lieschen-radieschen-und-der-l-mmergeier
DTEND;TZID=Europe/Berlin:20260730T151500
DTSTAMP:20260421T075853Z
DTSTART;TZID=Europe/Berlin:20260730T150000
GEO:54.449560;12.566040
LOCATION:Freilichtbühne Prerow\, Hauptaufgang 1A\, Prerow
ORGANIZER;CN=Kur- und Tourismusbetrieb Prerow:mailto:info@ostseebad-prerow.
 de
SEQUENCE:0
SUMMARY:Kindersommer Prerow: LIESCHEN RADIESCHEN UND DER LÄMMERGEIER
UID:InfomaxEvent_160006_iv1
URL:http://pages.destination.one/de/ostseebad-dierhagen/streaming/detail/Ev
 ent/InfomaxEvent_160006/kindersommer-prerow-lieschen-radieschen-und-der-l-
 mmergeier
END:VEVENT
BEGIN:VTIMEZONE
TZID:Europe/Berlin
X-LIC-LOCATION:Europe/Berlin
BEGIN:DAYLIGHT
DTSTART:19700329T020000
RRULE:FREQ=YEARLY;BYDAY=-1SU;BYMONTH=3
TZNAME:CEST
TZOFFSETFROM:+0100
TZOFFSETTO:+0200
END:DAYLIGHT
BEGIN:STANDARD
DTSTART:19701025T030000
RRULE:FREQ=YEARLY;BYDAY=-1SU;BYMONTH=10
TZNAME:CET
TZOFFSETFROM:+0200
TZOFFSETTO:+0100
END:STANDARD
END:VTIMEZONE
END:VCALENDAR
