BEGIN:VCALENDAR
VERSION:2.0
PRODID:-//destination.one//NONSGML destination.meta API//DE
X-WR-CALDESC:A calendar powered by destination.meta
X-WR-CALNAME:ostseebad-dierhagen Kalender via destination.meta
BEGIN:VEVENT
CATEGORIES:Kinder
CATEGORIES:kreatives Gestalten
CATEGORIES:Theater & Bühne
CATEGORIES:Open-Air
DESCRIPTION:Reise ins Schlawunderland mit Meister Note und Molli Melodie\n\
 nmehr Informationen unter http://pages.destination.one/de/ostseebad-dierha
 gen/streaming/detail/Event/InfomaxEvent_160002/kindersommer-prerow-mobile-
 kinderb-hne-michael-wein
DTEND;TZID=Europe/Berlin:20260713T170000
DTSTAMP:20260423T083342Z
DTSTART;TZID=Europe/Berlin:20260713T160000
GEO:54.449560;12.566040
LOCATION:Freilichtbühne Prerow\, Hauptaufgang 1A\, Prerow
ORGANIZER;CN=Kur- und Tourismusbetrieb Prerow:mailto:info@ostseebad-prerow.
 de
SEQUENCE:0
SUMMARY:Kindersommer Prerow: mobile Kinderbühne: Michael Wein
UID:InfomaxEvent_160002_iv0
URL:http://pages.destination.one/de/ostseebad-dierhagen/streaming/detail/Ev
 ent/InfomaxEvent_160002/kindersommer-prerow-mobile-kinderb-hne-michael-wei
 n
END:VEVENT
BEGIN:VTIMEZONE
TZID:Europe/Berlin
X-LIC-LOCATION:Europe/Berlin
BEGIN:DAYLIGHT
DTSTART:19700329T020000
RRULE:FREQ=YEARLY;BYDAY=-1SU;BYMONTH=3
TZNAME:CEST
TZOFFSETFROM:+0100
TZOFFSETTO:+0200
END:DAYLIGHT
BEGIN:STANDARD
DTSTART:19701025T030000
RRULE:FREQ=YEARLY;BYDAY=-1SU;BYMONTH=10
TZNAME:CET
TZOFFSETFROM:+0200
TZOFFSETTO:+0100
END:STANDARD
END:VTIMEZONE
END:VCALENDAR
