BEGIN:VCALENDAR
VERSION:2.0
PRODID:-//destination.one//NONSGML destination.meta API//DE
X-WR-CALDESC:A calendar powered by destination.meta
X-WR-CALNAME:ostseebad-dierhagen Kalender via destination.meta
BEGIN:VEVENT
CATEGORIES:Jazz & Chanson
CATEGORIES:Kirchliche Veranstaltung
CATEGORIES:Literatur
DESCRIPTION:„Tausend Herzschläge nichts\, ein Herzschlag später … Funkenflu
 g\n\nmehr Informationen unter http://pages.destination.one/de/ostseebad-di
 erhagen/streaming/detail/Event/InfomaxEvent_159991/vom-lieben
DTEND;TZID=Europe/Berlin:20260428T210000
DTSTAMP:20260424T082457Z
DTSTART;TZID=Europe/Berlin:20260428T200000
GEO:54.447569;12.584179
LOCATION:Seemannskirche Prerow\, Kirchenort 2\, Ostseebad Prerow
SEQUENCE:0
SUMMARY:vom Lieben
UID:InfomaxEvent_159991_iv0
URL:http://pages.destination.one/de/ostseebad-dierhagen/streaming/detail/Ev
 ent/InfomaxEvent_159991/vom-lieben
END:VEVENT
BEGIN:VTIMEZONE
TZID:Europe/Berlin
X-LIC-LOCATION:Europe/Berlin
BEGIN:DAYLIGHT
DTSTART:19700329T020000
RRULE:FREQ=YEARLY;BYDAY=-1SU;BYMONTH=3
TZNAME:CEST
TZOFFSETFROM:+0100
TZOFFSETTO:+0200
END:DAYLIGHT
BEGIN:STANDARD
DTSTART:19701025T030000
RRULE:FREQ=YEARLY;BYDAY=-1SU;BYMONTH=10
TZNAME:CET
TZOFFSETFROM:+0200
TZOFFSETTO:+0100
END:STANDARD
END:VTIMEZONE
END:VCALENDAR
