BEGIN:VCALENDAR
VERSION:2.0
PRODID:-//destination.one//NONSGML destination.meta API//DE
X-WR-CALDESC:A calendar powered by destination.meta
X-WR-CALNAME:ostseebad-dierhagen Kalender via destination.meta
BEGIN:VEVENT
CATEGORIES:Jazz & Chanson
CATEGORIES:Kirchliche Veranstaltung
CATEGORIES:Literatur
DESCRIPTION:Ist eine akustische Reise aus Texten & Melodien - heiter\, vert
 räumt\, empört\, zögernd\, bittend und immer voller Überraschungen\n\nmehr
  Informationen unter http://pages.destination.one/de/ostseebad-dierhagen/s
 treaming/detail/Event/InfomaxEvent_159990/vom-wachsen
DTEND;TZID=Europe/Berlin:20260429T210000
DTSTAMP:20260422T125058Z
DTSTART;TZID=Europe/Berlin:20260429T200000
GEO:54.382736;12.424308
LOCATION:Schifferkirche Ahrenshoop\, Paetowweg 5\, Ahrenshoop
SEQUENCE:0
SUMMARY:vom Wachsen
UID:InfomaxEvent_159990_iv0
URL:http://pages.destination.one/de/ostseebad-dierhagen/streaming/detail/Ev
 ent/InfomaxEvent_159990/vom-wachsen
END:VEVENT
BEGIN:VTIMEZONE
TZID:Europe/Berlin
X-LIC-LOCATION:Europe/Berlin
BEGIN:DAYLIGHT
DTSTART:19700329T020000
RRULE:FREQ=YEARLY;BYDAY=-1SU;BYMONTH=3
TZNAME:CEST
TZOFFSETFROM:+0100
TZOFFSETTO:+0200
END:DAYLIGHT
BEGIN:STANDARD
DTSTART:19701025T030000
RRULE:FREQ=YEARLY;BYDAY=-1SU;BYMONTH=10
TZNAME:CET
TZOFFSETFROM:+0200
TZOFFSETTO:+0100
END:STANDARD
END:VTIMEZONE
END:VCALENDAR
