BEGIN:VCALENDAR
VERSION:2.0
PRODID:-//destination.one//NONSGML destination.meta API//DE
X-WR-CALDESC:A calendar powered by destination.meta
X-WR-CALNAME:ostseebad-dierhagen Kalender via destination.meta
BEGIN:VEVENT
CATEGORIES:Ausstellung
DESCRIPTION:Die Gruppenausstellung „La Mer“ in der Galerie BlackBox vereint
  Werke von elf KünstlerInnen aus Mecklenburg-Vorpommern und Berlin\, die s
 ich dem Meer in unterschiedlichen künstlerischen Ausdrucksformen nähern.\n
 \nmehr Informationen unter http://pages.destination.one/de/ostseebad-dierh
 agen/streaming/detail/Event/InfomaxEvent_159931/la-mer
DTEND;TZID=Europe/Berlin:20260502T180000
DTSTAMP:20260423T083211Z
DTSTART;TZID=Europe/Berlin:20260502T110000
GEO:54.238520;12.333410
LOCATION:Galerie BLACKBOX Hirschburg\, Zum Wallbach 15\, Hirschburg
ORGANIZER;CN=Black Box Kunsthof Hirschburg:mailto:kunsthof-hirschburg@t-onl
 ine.de
SEQUENCE:0
SUMMARY:La Mer
UID:InfomaxEvent_159931_iv0
URL:http://pages.destination.one/de/ostseebad-dierhagen/streaming/detail/Ev
 ent/InfomaxEvent_159931/la-mer
END:VEVENT
BEGIN:VEVENT
CATEGORIES:Ausstellung
DESCRIPTION:Die Gruppenausstellung „La Mer“ in der Galerie BlackBox vereint
  Werke von elf KünstlerInnen aus Mecklenburg-Vorpommern und Berlin\, die s
 ich dem Meer in unterschiedlichen künstlerischen Ausdrucksformen nähern.\n
 \nmehr Informationen unter http://pages.destination.one/de/ostseebad-dierh
 agen/streaming/detail/Event/InfomaxEvent_159931/la-mer
DTEND;TZID=Europe/Berlin:20260503T180000
DTSTAMP:20260423T083211Z
DTSTART;TZID=Europe/Berlin:20260503T110000
GEO:54.238520;12.333410
LOCATION:Galerie BLACKBOX Hirschburg\, Zum Wallbach 15\, Hirschburg
ORGANIZER;CN=Black Box Kunsthof Hirschburg:mailto:kunsthof-hirschburg@t-onl
 ine.de
SEQUENCE:0
SUMMARY:La Mer
UID:InfomaxEvent_159931_iv1
URL:http://pages.destination.one/de/ostseebad-dierhagen/streaming/detail/Ev
 ent/InfomaxEvent_159931/la-mer
END:VEVENT
BEGIN:VEVENT
CATEGORIES:Ausstellung
DESCRIPTION:Die Gruppenausstellung „La Mer“ in der Galerie BlackBox vereint
  Werke von elf KünstlerInnen aus Mecklenburg-Vorpommern und Berlin\, die s
 ich dem Meer in unterschiedlichen künstlerischen Ausdrucksformen nähern.\n
 \nmehr Informationen unter http://pages.destination.one/de/ostseebad-dierh
 agen/streaming/detail/Event/InfomaxEvent_159931/la-mer
DTEND;TZID=Europe/Berlin:20260508T180000
DTSTAMP:20260423T083211Z
DTSTART;TZID=Europe/Berlin:20260508T110000
GEO:54.238520;12.333410
LOCATION:Galerie BLACKBOX Hirschburg\, Zum Wallbach 15\, Hirschburg
ORGANIZER;CN=Black Box Kunsthof Hirschburg:mailto:kunsthof-hirschburg@t-onl
 ine.de
SEQUENCE:0
SUMMARY:La Mer
UID:InfomaxEvent_159931_iv2
URL:http://pages.destination.one/de/ostseebad-dierhagen/streaming/detail/Ev
 ent/InfomaxEvent_159931/la-mer
END:VEVENT
BEGIN:VEVENT
CATEGORIES:Ausstellung
DESCRIPTION:Die Gruppenausstellung „La Mer“ in der Galerie BlackBox vereint
  Werke von elf KünstlerInnen aus Mecklenburg-Vorpommern und Berlin\, die s
 ich dem Meer in unterschiedlichen künstlerischen Ausdrucksformen nähern.\n
 \nmehr Informationen unter http://pages.destination.one/de/ostseebad-dierh
 agen/streaming/detail/Event/InfomaxEvent_159931/la-mer
DTEND;TZID=Europe/Berlin:20260509T180000
DTSTAMP:20260423T083211Z
DTSTART;TZID=Europe/Berlin:20260509T110000
GEO:54.238520;12.333410
LOCATION:Galerie BLACKBOX Hirschburg\, Zum Wallbach 15\, Hirschburg
ORGANIZER;CN=Black Box Kunsthof Hirschburg:mailto:kunsthof-hirschburg@t-onl
 ine.de
SEQUENCE:0
SUMMARY:La Mer
UID:InfomaxEvent_159931_iv3
URL:http://pages.destination.one/de/ostseebad-dierhagen/streaming/detail/Ev
 ent/InfomaxEvent_159931/la-mer
END:VEVENT
BEGIN:VEVENT
CATEGORIES:Ausstellung
DESCRIPTION:Die Gruppenausstellung „La Mer“ in der Galerie BlackBox vereint
  Werke von elf KünstlerInnen aus Mecklenburg-Vorpommern und Berlin\, die s
 ich dem Meer in unterschiedlichen künstlerischen Ausdrucksformen nähern.\n
 \nmehr Informationen unter http://pages.destination.one/de/ostseebad-dierh
 agen/streaming/detail/Event/InfomaxEvent_159931/la-mer
DTEND;TZID=Europe/Berlin:20260510T180000
DTSTAMP:20260423T083211Z
DTSTART;TZID=Europe/Berlin:20260510T110000
GEO:54.238520;12.333410
LOCATION:Galerie BLACKBOX Hirschburg\, Zum Wallbach 15\, Hirschburg
ORGANIZER;CN=Black Box Kunsthof Hirschburg:mailto:kunsthof-hirschburg@t-onl
 ine.de
SEQUENCE:0
SUMMARY:La Mer
UID:InfomaxEvent_159931_iv4
URL:http://pages.destination.one/de/ostseebad-dierhagen/streaming/detail/Ev
 ent/InfomaxEvent_159931/la-mer
END:VEVENT
BEGIN:VEVENT
CATEGORIES:Ausstellung
DESCRIPTION:Die Gruppenausstellung „La Mer“ in der Galerie BlackBox vereint
  Werke von elf KünstlerInnen aus Mecklenburg-Vorpommern und Berlin\, die s
 ich dem Meer in unterschiedlichen künstlerischen Ausdrucksformen nähern.\n
 \nmehr Informationen unter http://pages.destination.one/de/ostseebad-dierh
 agen/streaming/detail/Event/InfomaxEvent_159931/la-mer
DTEND;TZID=Europe/Berlin:20260515T180000
DTSTAMP:20260423T083211Z
DTSTART;TZID=Europe/Berlin:20260515T110000
GEO:54.238520;12.333410
LOCATION:Galerie BLACKBOX Hirschburg\, Zum Wallbach 15\, Hirschburg
ORGANIZER;CN=Black Box Kunsthof Hirschburg:mailto:kunsthof-hirschburg@t-onl
 ine.de
SEQUENCE:0
SUMMARY:La Mer
UID:InfomaxEvent_159931_iv5
URL:http://pages.destination.one/de/ostseebad-dierhagen/streaming/detail/Ev
 ent/InfomaxEvent_159931/la-mer
END:VEVENT
BEGIN:VEVENT
CATEGORIES:Ausstellung
DESCRIPTION:Die Gruppenausstellung „La Mer“ in der Galerie BlackBox vereint
  Werke von elf KünstlerInnen aus Mecklenburg-Vorpommern und Berlin\, die s
 ich dem Meer in unterschiedlichen künstlerischen Ausdrucksformen nähern.\n
 \nmehr Informationen unter http://pages.destination.one/de/ostseebad-dierh
 agen/streaming/detail/Event/InfomaxEvent_159931/la-mer
DTEND;TZID=Europe/Berlin:20260516T180000
DTSTAMP:20260423T083211Z
DTSTART;TZID=Europe/Berlin:20260516T110000
GEO:54.238520;12.333410
LOCATION:Galerie BLACKBOX Hirschburg\, Zum Wallbach 15\, Hirschburg
ORGANIZER;CN=Black Box Kunsthof Hirschburg:mailto:kunsthof-hirschburg@t-onl
 ine.de
SEQUENCE:0
SUMMARY:La Mer
UID:InfomaxEvent_159931_iv6
URL:http://pages.destination.one/de/ostseebad-dierhagen/streaming/detail/Ev
 ent/InfomaxEvent_159931/la-mer
END:VEVENT
BEGIN:VEVENT
CATEGORIES:Ausstellung
DESCRIPTION:Die Gruppenausstellung „La Mer“ in der Galerie BlackBox vereint
  Werke von elf KünstlerInnen aus Mecklenburg-Vorpommern und Berlin\, die s
 ich dem Meer in unterschiedlichen künstlerischen Ausdrucksformen nähern.\n
 \nmehr Informationen unter http://pages.destination.one/de/ostseebad-dierh
 agen/streaming/detail/Event/InfomaxEvent_159931/la-mer
DTEND;TZID=Europe/Berlin:20260517T180000
DTSTAMP:20260423T083211Z
DTSTART;TZID=Europe/Berlin:20260517T110000
GEO:54.238520;12.333410
LOCATION:Galerie BLACKBOX Hirschburg\, Zum Wallbach 15\, Hirschburg
ORGANIZER;CN=Black Box Kunsthof Hirschburg:mailto:kunsthof-hirschburg@t-onl
 ine.de
SEQUENCE:0
SUMMARY:La Mer
UID:InfomaxEvent_159931_iv7
URL:http://pages.destination.one/de/ostseebad-dierhagen/streaming/detail/Ev
 ent/InfomaxEvent_159931/la-mer
END:VEVENT
BEGIN:VEVENT
CATEGORIES:Ausstellung
DESCRIPTION:Die Gruppenausstellung „La Mer“ in der Galerie BlackBox vereint
  Werke von elf KünstlerInnen aus Mecklenburg-Vorpommern und Berlin\, die s
 ich dem Meer in unterschiedlichen künstlerischen Ausdrucksformen nähern.\n
 \nmehr Informationen unter http://pages.destination.one/de/ostseebad-dierh
 agen/streaming/detail/Event/InfomaxEvent_159931/la-mer
DTEND;TZID=Europe/Berlin:20260522T180000
DTSTAMP:20260423T083211Z
DTSTART;TZID=Europe/Berlin:20260522T110000
GEO:54.238520;12.333410
LOCATION:Galerie BLACKBOX Hirschburg\, Zum Wallbach 15\, Hirschburg
ORGANIZER;CN=Black Box Kunsthof Hirschburg:mailto:kunsthof-hirschburg@t-onl
 ine.de
SEQUENCE:0
SUMMARY:La Mer
UID:InfomaxEvent_159931_iv8
URL:http://pages.destination.one/de/ostseebad-dierhagen/streaming/detail/Ev
 ent/InfomaxEvent_159931/la-mer
END:VEVENT
BEGIN:VEVENT
CATEGORIES:Ausstellung
DESCRIPTION:Die Gruppenausstellung „La Mer“ in der Galerie BlackBox vereint
  Werke von elf KünstlerInnen aus Mecklenburg-Vorpommern und Berlin\, die s
 ich dem Meer in unterschiedlichen künstlerischen Ausdrucksformen nähern.\n
 \nmehr Informationen unter http://pages.destination.one/de/ostseebad-dierh
 agen/streaming/detail/Event/InfomaxEvent_159931/la-mer
DTEND;TZID=Europe/Berlin:20260523T180000
DTSTAMP:20260423T083211Z
DTSTART;TZID=Europe/Berlin:20260523T110000
GEO:54.238520;12.333410
LOCATION:Galerie BLACKBOX Hirschburg\, Zum Wallbach 15\, Hirschburg
ORGANIZER;CN=Black Box Kunsthof Hirschburg:mailto:kunsthof-hirschburg@t-onl
 ine.de
SEQUENCE:0
SUMMARY:La Mer
UID:InfomaxEvent_159931_iv9
URL:http://pages.destination.one/de/ostseebad-dierhagen/streaming/detail/Ev
 ent/InfomaxEvent_159931/la-mer
END:VEVENT
BEGIN:VEVENT
CATEGORIES:Ausstellung
DESCRIPTION:Die Gruppenausstellung „La Mer“ in der Galerie BlackBox vereint
  Werke von elf KünstlerInnen aus Mecklenburg-Vorpommern und Berlin\, die s
 ich dem Meer in unterschiedlichen künstlerischen Ausdrucksformen nähern.\n
 \nmehr Informationen unter http://pages.destination.one/de/ostseebad-dierh
 agen/streaming/detail/Event/InfomaxEvent_159931/la-mer
DTEND;TZID=Europe/Berlin:20260524T180000
DTSTAMP:20260423T083211Z
DTSTART;TZID=Europe/Berlin:20260524T110000
GEO:54.238520;12.333410
LOCATION:Galerie BLACKBOX Hirschburg\, Zum Wallbach 15\, Hirschburg
ORGANIZER;CN=Black Box Kunsthof Hirschburg:mailto:kunsthof-hirschburg@t-onl
 ine.de
SEQUENCE:0
SUMMARY:La Mer
UID:InfomaxEvent_159931_iv10
URL:http://pages.destination.one/de/ostseebad-dierhagen/streaming/detail/Ev
 ent/InfomaxEvent_159931/la-mer
END:VEVENT
BEGIN:VEVENT
CATEGORIES:Ausstellung
DESCRIPTION:Die Gruppenausstellung „La Mer“ in der Galerie BlackBox vereint
  Werke von elf KünstlerInnen aus Mecklenburg-Vorpommern und Berlin\, die s
 ich dem Meer in unterschiedlichen künstlerischen Ausdrucksformen nähern.\n
 \nmehr Informationen unter http://pages.destination.one/de/ostseebad-dierh
 agen/streaming/detail/Event/InfomaxEvent_159931/la-mer
DTEND;TZID=Europe/Berlin:20260529T180000
DTSTAMP:20260423T083211Z
DTSTART;TZID=Europe/Berlin:20260529T110000
GEO:54.238520;12.333410
LOCATION:Galerie BLACKBOX Hirschburg\, Zum Wallbach 15\, Hirschburg
ORGANIZER;CN=Black Box Kunsthof Hirschburg:mailto:kunsthof-hirschburg@t-onl
 ine.de
SEQUENCE:0
SUMMARY:La Mer
UID:InfomaxEvent_159931_iv11
URL:http://pages.destination.one/de/ostseebad-dierhagen/streaming/detail/Ev
 ent/InfomaxEvent_159931/la-mer
END:VEVENT
BEGIN:VEVENT
CATEGORIES:Ausstellung
DESCRIPTION:Die Gruppenausstellung „La Mer“ in der Galerie BlackBox vereint
  Werke von elf KünstlerInnen aus Mecklenburg-Vorpommern und Berlin\, die s
 ich dem Meer in unterschiedlichen künstlerischen Ausdrucksformen nähern.\n
 \nmehr Informationen unter http://pages.destination.one/de/ostseebad-dierh
 agen/streaming/detail/Event/InfomaxEvent_159931/la-mer
DTEND;TZID=Europe/Berlin:20260530T180000
DTSTAMP:20260423T083211Z
DTSTART;TZID=Europe/Berlin:20260530T110000
GEO:54.238520;12.333410
LOCATION:Galerie BLACKBOX Hirschburg\, Zum Wallbach 15\, Hirschburg
ORGANIZER;CN=Black Box Kunsthof Hirschburg:mailto:kunsthof-hirschburg@t-onl
 ine.de
SEQUENCE:0
SUMMARY:La Mer
UID:InfomaxEvent_159931_iv12
URL:http://pages.destination.one/de/ostseebad-dierhagen/streaming/detail/Ev
 ent/InfomaxEvent_159931/la-mer
END:VEVENT
BEGIN:VEVENT
CATEGORIES:Ausstellung
DESCRIPTION:Die Gruppenausstellung „La Mer“ in der Galerie BlackBox vereint
  Werke von elf KünstlerInnen aus Mecklenburg-Vorpommern und Berlin\, die s
 ich dem Meer in unterschiedlichen künstlerischen Ausdrucksformen nähern.\n
 \nmehr Informationen unter http://pages.destination.one/de/ostseebad-dierh
 agen/streaming/detail/Event/InfomaxEvent_159931/la-mer
DTEND;TZID=Europe/Berlin:20260531T180000
DTSTAMP:20260423T083211Z
DTSTART;TZID=Europe/Berlin:20260531T110000
GEO:54.238520;12.333410
LOCATION:Galerie BLACKBOX Hirschburg\, Zum Wallbach 15\, Hirschburg
ORGANIZER;CN=Black Box Kunsthof Hirschburg:mailto:kunsthof-hirschburg@t-onl
 ine.de
SEQUENCE:0
SUMMARY:La Mer
UID:InfomaxEvent_159931_iv13
URL:http://pages.destination.one/de/ostseebad-dierhagen/streaming/detail/Ev
 ent/InfomaxEvent_159931/la-mer
END:VEVENT
BEGIN:VEVENT
CATEGORIES:Ausstellung
DESCRIPTION:Die Gruppenausstellung „La Mer“ in der Galerie BlackBox vereint
  Werke von elf KünstlerInnen aus Mecklenburg-Vorpommern und Berlin\, die s
 ich dem Meer in unterschiedlichen künstlerischen Ausdrucksformen nähern.\n
 \nmehr Informationen unter http://pages.destination.one/de/ostseebad-dierh
 agen/streaming/detail/Event/InfomaxEvent_159931/la-mer
DTEND;TZID=Europe/Berlin:20260605T180000
DTSTAMP:20260423T083211Z
DTSTART;TZID=Europe/Berlin:20260605T110000
GEO:54.238520;12.333410
LOCATION:Galerie BLACKBOX Hirschburg\, Zum Wallbach 15\, Hirschburg
ORGANIZER;CN=Black Box Kunsthof Hirschburg:mailto:kunsthof-hirschburg@t-onl
 ine.de
SEQUENCE:0
SUMMARY:La Mer
UID:InfomaxEvent_159931_iv14
URL:http://pages.destination.one/de/ostseebad-dierhagen/streaming/detail/Ev
 ent/InfomaxEvent_159931/la-mer
END:VEVENT
BEGIN:VEVENT
CATEGORIES:Ausstellung
DESCRIPTION:Die Gruppenausstellung „La Mer“ in der Galerie BlackBox vereint
  Werke von elf KünstlerInnen aus Mecklenburg-Vorpommern und Berlin\, die s
 ich dem Meer in unterschiedlichen künstlerischen Ausdrucksformen nähern.\n
 \nmehr Informationen unter http://pages.destination.one/de/ostseebad-dierh
 agen/streaming/detail/Event/InfomaxEvent_159931/la-mer
DTEND;TZID=Europe/Berlin:20260606T180000
DTSTAMP:20260423T083211Z
DTSTART;TZID=Europe/Berlin:20260606T110000
GEO:54.238520;12.333410
LOCATION:Galerie BLACKBOX Hirschburg\, Zum Wallbach 15\, Hirschburg
ORGANIZER;CN=Black Box Kunsthof Hirschburg:mailto:kunsthof-hirschburg@t-onl
 ine.de
SEQUENCE:0
SUMMARY:La Mer
UID:InfomaxEvent_159931_iv15
URL:http://pages.destination.one/de/ostseebad-dierhagen/streaming/detail/Ev
 ent/InfomaxEvent_159931/la-mer
END:VEVENT
BEGIN:VEVENT
CATEGORIES:Ausstellung
DESCRIPTION:Die Gruppenausstellung „La Mer“ in der Galerie BlackBox vereint
  Werke von elf KünstlerInnen aus Mecklenburg-Vorpommern und Berlin\, die s
 ich dem Meer in unterschiedlichen künstlerischen Ausdrucksformen nähern.\n
 \nmehr Informationen unter http://pages.destination.one/de/ostseebad-dierh
 agen/streaming/detail/Event/InfomaxEvent_159931/la-mer
DTEND;TZID=Europe/Berlin:20260607T180000
DTSTAMP:20260423T083211Z
DTSTART;TZID=Europe/Berlin:20260607T110000
GEO:54.238520;12.333410
LOCATION:Galerie BLACKBOX Hirschburg\, Zum Wallbach 15\, Hirschburg
ORGANIZER;CN=Black Box Kunsthof Hirschburg:mailto:kunsthof-hirschburg@t-onl
 ine.de
SEQUENCE:0
SUMMARY:La Mer
UID:InfomaxEvent_159931_iv16
URL:http://pages.destination.one/de/ostseebad-dierhagen/streaming/detail/Ev
 ent/InfomaxEvent_159931/la-mer
END:VEVENT
BEGIN:VEVENT
CATEGORIES:Ausstellung
DESCRIPTION:Die Gruppenausstellung „La Mer“ in der Galerie BlackBox vereint
  Werke von elf KünstlerInnen aus Mecklenburg-Vorpommern und Berlin\, die s
 ich dem Meer in unterschiedlichen künstlerischen Ausdrucksformen nähern.\n
 \nmehr Informationen unter http://pages.destination.one/de/ostseebad-dierh
 agen/streaming/detail/Event/InfomaxEvent_159931/la-mer
DTEND;TZID=Europe/Berlin:20260612T180000
DTSTAMP:20260423T083211Z
DTSTART;TZID=Europe/Berlin:20260612T110000
GEO:54.238520;12.333410
LOCATION:Galerie BLACKBOX Hirschburg\, Zum Wallbach 15\, Hirschburg
ORGANIZER;CN=Black Box Kunsthof Hirschburg:mailto:kunsthof-hirschburg@t-onl
 ine.de
SEQUENCE:0
SUMMARY:La Mer
UID:InfomaxEvent_159931_iv17
URL:http://pages.destination.one/de/ostseebad-dierhagen/streaming/detail/Ev
 ent/InfomaxEvent_159931/la-mer
END:VEVENT
BEGIN:VEVENT
CATEGORIES:Ausstellung
DESCRIPTION:Die Gruppenausstellung „La Mer“ in der Galerie BlackBox vereint
  Werke von elf KünstlerInnen aus Mecklenburg-Vorpommern und Berlin\, die s
 ich dem Meer in unterschiedlichen künstlerischen Ausdrucksformen nähern.\n
 \nmehr Informationen unter http://pages.destination.one/de/ostseebad-dierh
 agen/streaming/detail/Event/InfomaxEvent_159931/la-mer
DTEND;TZID=Europe/Berlin:20260613T180000
DTSTAMP:20260423T083211Z
DTSTART;TZID=Europe/Berlin:20260613T110000
GEO:54.238520;12.333410
LOCATION:Galerie BLACKBOX Hirschburg\, Zum Wallbach 15\, Hirschburg
ORGANIZER;CN=Black Box Kunsthof Hirschburg:mailto:kunsthof-hirschburg@t-onl
 ine.de
SEQUENCE:0
SUMMARY:La Mer
UID:InfomaxEvent_159931_iv18
URL:http://pages.destination.one/de/ostseebad-dierhagen/streaming/detail/Ev
 ent/InfomaxEvent_159931/la-mer
END:VEVENT
BEGIN:VEVENT
CATEGORIES:Ausstellung
DESCRIPTION:Die Gruppenausstellung „La Mer“ in der Galerie BlackBox vereint
  Werke von elf KünstlerInnen aus Mecklenburg-Vorpommern und Berlin\, die s
 ich dem Meer in unterschiedlichen künstlerischen Ausdrucksformen nähern.\n
 \nmehr Informationen unter http://pages.destination.one/de/ostseebad-dierh
 agen/streaming/detail/Event/InfomaxEvent_159931/la-mer
DTEND;TZID=Europe/Berlin:20260614T180000
DTSTAMP:20260423T083211Z
DTSTART;TZID=Europe/Berlin:20260614T110000
GEO:54.238520;12.333410
LOCATION:Galerie BLACKBOX Hirschburg\, Zum Wallbach 15\, Hirschburg
ORGANIZER;CN=Black Box Kunsthof Hirschburg:mailto:kunsthof-hirschburg@t-onl
 ine.de
SEQUENCE:0
SUMMARY:La Mer
UID:InfomaxEvent_159931_iv19
URL:http://pages.destination.one/de/ostseebad-dierhagen/streaming/detail/Ev
 ent/InfomaxEvent_159931/la-mer
END:VEVENT
BEGIN:VEVENT
CATEGORIES:Ausstellung
DESCRIPTION:Die Gruppenausstellung „La Mer“ in der Galerie BlackBox vereint
  Werke von elf KünstlerInnen aus Mecklenburg-Vorpommern und Berlin\, die s
 ich dem Meer in unterschiedlichen künstlerischen Ausdrucksformen nähern.\n
 \nmehr Informationen unter http://pages.destination.one/de/ostseebad-dierh
 agen/streaming/detail/Event/InfomaxEvent_159931/la-mer
DTEND;TZID=Europe/Berlin:20260619T180000
DTSTAMP:20260423T083211Z
DTSTART;TZID=Europe/Berlin:20260619T110000
GEO:54.238520;12.333410
LOCATION:Galerie BLACKBOX Hirschburg\, Zum Wallbach 15\, Hirschburg
ORGANIZER;CN=Black Box Kunsthof Hirschburg:mailto:kunsthof-hirschburg@t-onl
 ine.de
SEQUENCE:0
SUMMARY:La Mer
UID:InfomaxEvent_159931_iv20
URL:http://pages.destination.one/de/ostseebad-dierhagen/streaming/detail/Ev
 ent/InfomaxEvent_159931/la-mer
END:VEVENT
BEGIN:VEVENT
CATEGORIES:Ausstellung
DESCRIPTION:Die Gruppenausstellung „La Mer“ in der Galerie BlackBox vereint
  Werke von elf KünstlerInnen aus Mecklenburg-Vorpommern und Berlin\, die s
 ich dem Meer in unterschiedlichen künstlerischen Ausdrucksformen nähern.\n
 \nmehr Informationen unter http://pages.destination.one/de/ostseebad-dierh
 agen/streaming/detail/Event/InfomaxEvent_159931/la-mer
DTEND;TZID=Europe/Berlin:20260620T180000
DTSTAMP:20260423T083211Z
DTSTART;TZID=Europe/Berlin:20260620T110000
GEO:54.238520;12.333410
LOCATION:Galerie BLACKBOX Hirschburg\, Zum Wallbach 15\, Hirschburg
ORGANIZER;CN=Black Box Kunsthof Hirschburg:mailto:kunsthof-hirschburg@t-onl
 ine.de
SEQUENCE:0
SUMMARY:La Mer
UID:InfomaxEvent_159931_iv21
URL:http://pages.destination.one/de/ostseebad-dierhagen/streaming/detail/Ev
 ent/InfomaxEvent_159931/la-mer
END:VEVENT
BEGIN:VEVENT
CATEGORIES:Ausstellung
DESCRIPTION:Die Gruppenausstellung „La Mer“ in der Galerie BlackBox vereint
  Werke von elf KünstlerInnen aus Mecklenburg-Vorpommern und Berlin\, die s
 ich dem Meer in unterschiedlichen künstlerischen Ausdrucksformen nähern.\n
 \nmehr Informationen unter http://pages.destination.one/de/ostseebad-dierh
 agen/streaming/detail/Event/InfomaxEvent_159931/la-mer
DTEND;TZID=Europe/Berlin:20260621T180000
DTSTAMP:20260423T083211Z
DTSTART;TZID=Europe/Berlin:20260621T110000
GEO:54.238520;12.333410
LOCATION:Galerie BLACKBOX Hirschburg\, Zum Wallbach 15\, Hirschburg
ORGANIZER;CN=Black Box Kunsthof Hirschburg:mailto:kunsthof-hirschburg@t-onl
 ine.de
SEQUENCE:0
SUMMARY:La Mer
UID:InfomaxEvent_159931_iv22
URL:http://pages.destination.one/de/ostseebad-dierhagen/streaming/detail/Ev
 ent/InfomaxEvent_159931/la-mer
END:VEVENT
BEGIN:VEVENT
CATEGORIES:Ausstellung
DESCRIPTION:Die Gruppenausstellung „La Mer“ in der Galerie BlackBox vereint
  Werke von elf KünstlerInnen aus Mecklenburg-Vorpommern und Berlin\, die s
 ich dem Meer in unterschiedlichen künstlerischen Ausdrucksformen nähern.\n
 \nmehr Informationen unter http://pages.destination.one/de/ostseebad-dierh
 agen/streaming/detail/Event/InfomaxEvent_159931/la-mer
DTEND;TZID=Europe/Berlin:20260626T180000
DTSTAMP:20260423T083211Z
DTSTART;TZID=Europe/Berlin:20260626T110000
GEO:54.238520;12.333410
LOCATION:Galerie BLACKBOX Hirschburg\, Zum Wallbach 15\, Hirschburg
ORGANIZER;CN=Black Box Kunsthof Hirschburg:mailto:kunsthof-hirschburg@t-onl
 ine.de
SEQUENCE:0
SUMMARY:La Mer
UID:InfomaxEvent_159931_iv23
URL:http://pages.destination.one/de/ostseebad-dierhagen/streaming/detail/Ev
 ent/InfomaxEvent_159931/la-mer
END:VEVENT
BEGIN:VEVENT
CATEGORIES:Ausstellung
DESCRIPTION:Die Gruppenausstellung „La Mer“ in der Galerie BlackBox vereint
  Werke von elf KünstlerInnen aus Mecklenburg-Vorpommern und Berlin\, die s
 ich dem Meer in unterschiedlichen künstlerischen Ausdrucksformen nähern.\n
 \nmehr Informationen unter http://pages.destination.one/de/ostseebad-dierh
 agen/streaming/detail/Event/InfomaxEvent_159931/la-mer
DTEND;TZID=Europe/Berlin:20260627T180000
DTSTAMP:20260423T083211Z
DTSTART;TZID=Europe/Berlin:20260627T110000
GEO:54.238520;12.333410
LOCATION:Galerie BLACKBOX Hirschburg\, Zum Wallbach 15\, Hirschburg
ORGANIZER;CN=Black Box Kunsthof Hirschburg:mailto:kunsthof-hirschburg@t-onl
 ine.de
SEQUENCE:0
SUMMARY:La Mer
UID:InfomaxEvent_159931_iv24
URL:http://pages.destination.one/de/ostseebad-dierhagen/streaming/detail/Ev
 ent/InfomaxEvent_159931/la-mer
END:VEVENT
BEGIN:VEVENT
CATEGORIES:Ausstellung
DESCRIPTION:Die Gruppenausstellung „La Mer“ in der Galerie BlackBox vereint
  Werke von elf KünstlerInnen aus Mecklenburg-Vorpommern und Berlin\, die s
 ich dem Meer in unterschiedlichen künstlerischen Ausdrucksformen nähern.\n
 \nmehr Informationen unter http://pages.destination.one/de/ostseebad-dierh
 agen/streaming/detail/Event/InfomaxEvent_159931/la-mer
DTEND;TZID=Europe/Berlin:20260628T180000
DTSTAMP:20260423T083211Z
DTSTART;TZID=Europe/Berlin:20260628T110000
GEO:54.238520;12.333410
LOCATION:Galerie BLACKBOX Hirschburg\, Zum Wallbach 15\, Hirschburg
ORGANIZER;CN=Black Box Kunsthof Hirschburg:mailto:kunsthof-hirschburg@t-onl
 ine.de
SEQUENCE:0
SUMMARY:La Mer
UID:InfomaxEvent_159931_iv25
URL:http://pages.destination.one/de/ostseebad-dierhagen/streaming/detail/Ev
 ent/InfomaxEvent_159931/la-mer
END:VEVENT
BEGIN:VEVENT
CATEGORIES:Ausstellung
DESCRIPTION:Die Gruppenausstellung „La Mer“ in der Galerie BlackBox vereint
  Werke von elf KünstlerInnen aus Mecklenburg-Vorpommern und Berlin\, die s
 ich dem Meer in unterschiedlichen künstlerischen Ausdrucksformen nähern.\n
 \nmehr Informationen unter http://pages.destination.one/de/ostseebad-dierh
 agen/streaming/detail/Event/InfomaxEvent_159931/la-mer
DTEND;TZID=Europe/Berlin:20260703T180000
DTSTAMP:20260423T083211Z
DTSTART;TZID=Europe/Berlin:20260703T110000
GEO:54.238520;12.333410
LOCATION:Galerie BLACKBOX Hirschburg\, Zum Wallbach 15\, Hirschburg
ORGANIZER;CN=Black Box Kunsthof Hirschburg:mailto:kunsthof-hirschburg@t-onl
 ine.de
SEQUENCE:0
SUMMARY:La Mer
UID:InfomaxEvent_159931_iv26
URL:http://pages.destination.one/de/ostseebad-dierhagen/streaming/detail/Ev
 ent/InfomaxEvent_159931/la-mer
END:VEVENT
BEGIN:VEVENT
CATEGORIES:Ausstellung
DESCRIPTION:Die Gruppenausstellung „La Mer“ in der Galerie BlackBox vereint
  Werke von elf KünstlerInnen aus Mecklenburg-Vorpommern und Berlin\, die s
 ich dem Meer in unterschiedlichen künstlerischen Ausdrucksformen nähern.\n
 \nmehr Informationen unter http://pages.destination.one/de/ostseebad-dierh
 agen/streaming/detail/Event/InfomaxEvent_159931/la-mer
DTEND;TZID=Europe/Berlin:20260704T180000
DTSTAMP:20260423T083211Z
DTSTART;TZID=Europe/Berlin:20260704T110000
GEO:54.238520;12.333410
LOCATION:Galerie BLACKBOX Hirschburg\, Zum Wallbach 15\, Hirschburg
ORGANIZER;CN=Black Box Kunsthof Hirschburg:mailto:kunsthof-hirschburg@t-onl
 ine.de
SEQUENCE:0
SUMMARY:La Mer
UID:InfomaxEvent_159931_iv27
URL:http://pages.destination.one/de/ostseebad-dierhagen/streaming/detail/Ev
 ent/InfomaxEvent_159931/la-mer
END:VEVENT
BEGIN:VEVENT
CATEGORIES:Ausstellung
DESCRIPTION:Die Gruppenausstellung „La Mer“ in der Galerie BlackBox vereint
  Werke von elf KünstlerInnen aus Mecklenburg-Vorpommern und Berlin\, die s
 ich dem Meer in unterschiedlichen künstlerischen Ausdrucksformen nähern.\n
 \nmehr Informationen unter http://pages.destination.one/de/ostseebad-dierh
 agen/streaming/detail/Event/InfomaxEvent_159931/la-mer
DTEND;TZID=Europe/Berlin:20260705T180000
DTSTAMP:20260423T083211Z
DTSTART;TZID=Europe/Berlin:20260705T110000
GEO:54.238520;12.333410
LOCATION:Galerie BLACKBOX Hirschburg\, Zum Wallbach 15\, Hirschburg
ORGANIZER;CN=Black Box Kunsthof Hirschburg:mailto:kunsthof-hirschburg@t-onl
 ine.de
SEQUENCE:0
SUMMARY:La Mer
UID:InfomaxEvent_159931_iv28
URL:http://pages.destination.one/de/ostseebad-dierhagen/streaming/detail/Ev
 ent/InfomaxEvent_159931/la-mer
END:VEVENT
BEGIN:VTIMEZONE
TZID:Europe/Berlin
X-LIC-LOCATION:Europe/Berlin
BEGIN:DAYLIGHT
DTSTART:19700329T020000
RRULE:FREQ=YEARLY;BYDAY=-1SU;BYMONTH=3
TZNAME:CEST
TZOFFSETFROM:+0100
TZOFFSETTO:+0200
END:DAYLIGHT
BEGIN:STANDARD
DTSTART:19701025T030000
RRULE:FREQ=YEARLY;BYDAY=-1SU;BYMONTH=10
TZNAME:CET
TZOFFSETFROM:+0200
TZOFFSETTO:+0100
END:STANDARD
END:VTIMEZONE
END:VCALENDAR
