BEGIN:VCALENDAR
VERSION:2.0
PRODID:-//destination.one//NONSGML destination.meta API//DE
X-WR-CALDESC:A calendar powered by destination.meta
X-WR-CALNAME:ostseebad-dierhagen Kalender via destination.meta
BEGIN:VEVENT
CATEGORIES:Weltmusik
CATEGORIES:Kirchliche Veranstaltung
CATEGORIES:Klassik
CATEGORIES:Niederdeutsches Brauchtum & Folklore
DESCRIPTION:mit den ehemaligen Kreuzchorsängern von „Twentytwo“ aus Dresden
 \n\nmehr Informationen unter http://pages.destination.one/de/ostseebad-die
 rhagen/streaming/detail/Event/InfomaxEvent_159912/10-weihnachtssingen-mit-
 twentytwo
DTEND;TZID=Europe/Berlin:20261222T190000
DTSTAMP:20260423T101343Z
DTSTART;TZID=Europe/Berlin:20261222T170000
GEO:54.447560;12.584164
LOCATION:Seemannskirche Prerow\, Kirchenort 2\, Prerow
ORGANIZER;CN=Förderverein Seemannskirche Prerow e.V.:https://www.seemannski
 rche-prerow.de/
SEQUENCE:0
SUMMARY:10. Weihnachtssingen mit „Twentytwo“
UID:InfomaxEvent_159912_iv0
URL:http://pages.destination.one/de/ostseebad-dierhagen/streaming/detail/Ev
 ent/InfomaxEvent_159912/10-weihnachtssingen-mit-twentytwo
END:VEVENT
BEGIN:VTIMEZONE
TZID:Europe/Berlin
X-LIC-LOCATION:Europe/Berlin
BEGIN:DAYLIGHT
DTSTART:19700329T020000
RRULE:FREQ=YEARLY;BYDAY=-1SU;BYMONTH=3
TZNAME:CEST
TZOFFSETFROM:+0100
TZOFFSETTO:+0200
END:DAYLIGHT
BEGIN:STANDARD
DTSTART:19701025T030000
RRULE:FREQ=YEARLY;BYDAY=-1SU;BYMONTH=10
TZNAME:CET
TZOFFSETFROM:+0200
TZOFFSETTO:+0100
END:STANDARD
END:VTIMEZONE
END:VCALENDAR
