BEGIN:VCALENDAR
VERSION:2.0
PRODID:-//destination.one//NONSGML destination.meta API//DE
X-WR-CALDESC:A calendar powered by destination.meta
X-WR-CALNAME:ostseebad-dierhagen Kalender via destination.meta
BEGIN:VEVENT
CATEGORIES:Rock\, Pop & Elektronische Musik
CATEGORIES:Tanz\,Party & Disco
DESCRIPTION:Vielseitiges Live-Programm in der Zingster Scheune: Marco Pacco
  präsentiert Rock- und Pop-Klassiker auf seine eigene Art | Zingster Scheu
 ne\n\nmehr Informationen unter http://pages.destination.one/de/ostseebad-d
 ierhagen/streaming/detail/Event/InfomaxEvent_159827/marco-pacco-beste-live
 -unterhaltung-zingster-scheune
DTEND;TZID=Europe/Berlin:20260703T220000
DTSTAMP:20260423T083342Z
DTSTART;TZID=Europe/Berlin:20260703T180000
GEO:54.436708;12.683650
LOCATION:Restaurant Zingster Scheune\, Fischmarkt 1a\, Zingst
ORGANIZER;CN=Thieme GmbH Gastronomie & Einzelhandel:mailto:christian.p@thie
 me-gmbh.net
SEQUENCE:0
SUMMARY:Marco Pacco: Beste Live-Unterhaltung | Zingster Scheune
UID:InfomaxEvent_159827_iv0
URL:http://pages.destination.one/de/ostseebad-dierhagen/streaming/detail/Ev
 ent/InfomaxEvent_159827/marco-pacco-beste-live-unterhaltung-zingster-scheu
 ne
END:VEVENT
BEGIN:VEVENT
CATEGORIES:Rock\, Pop & Elektronische Musik
CATEGORIES:Tanz\,Party & Disco
DESCRIPTION:Vielseitiges Live-Programm in der Zingster Scheune: Marco Pacco
  präsentiert Rock- und Pop-Klassiker auf seine eigene Art | Zingster Scheu
 ne\n\nmehr Informationen unter http://pages.destination.one/de/ostseebad-d
 ierhagen/streaming/detail/Event/InfomaxEvent_159827/marco-pacco-beste-live
 -unterhaltung-zingster-scheune
DTEND;TZID=Europe/Berlin:20260710T220000
DTSTAMP:20260423T083342Z
DTSTART;TZID=Europe/Berlin:20260710T180000
GEO:54.436708;12.683650
LOCATION:Restaurant Zingster Scheune\, Fischmarkt 1a\, Zingst
ORGANIZER;CN=Thieme GmbH Gastronomie & Einzelhandel:mailto:christian.p@thie
 me-gmbh.net
SEQUENCE:0
SUMMARY:Marco Pacco: Beste Live-Unterhaltung | Zingster Scheune
UID:InfomaxEvent_159827_iv1
URL:http://pages.destination.one/de/ostseebad-dierhagen/streaming/detail/Ev
 ent/InfomaxEvent_159827/marco-pacco-beste-live-unterhaltung-zingster-scheu
 ne
END:VEVENT
BEGIN:VEVENT
CATEGORIES:Rock\, Pop & Elektronische Musik
CATEGORIES:Tanz\,Party & Disco
DESCRIPTION:Vielseitiges Live-Programm in der Zingster Scheune: Marco Pacco
  präsentiert Rock- und Pop-Klassiker auf seine eigene Art | Zingster Scheu
 ne\n\nmehr Informationen unter http://pages.destination.one/de/ostseebad-d
 ierhagen/streaming/detail/Event/InfomaxEvent_159827/marco-pacco-beste-live
 -unterhaltung-zingster-scheune
DTEND;TZID=Europe/Berlin:20260717T220000
DTSTAMP:20260423T083342Z
DTSTART;TZID=Europe/Berlin:20260717T180000
GEO:54.436708;12.683650
LOCATION:Restaurant Zingster Scheune\, Fischmarkt 1a\, Zingst
ORGANIZER;CN=Thieme GmbH Gastronomie & Einzelhandel:mailto:christian.p@thie
 me-gmbh.net
SEQUENCE:0
SUMMARY:Marco Pacco: Beste Live-Unterhaltung | Zingster Scheune
UID:InfomaxEvent_159827_iv2
URL:http://pages.destination.one/de/ostseebad-dierhagen/streaming/detail/Ev
 ent/InfomaxEvent_159827/marco-pacco-beste-live-unterhaltung-zingster-scheu
 ne
END:VEVENT
BEGIN:VEVENT
CATEGORIES:Rock\, Pop & Elektronische Musik
CATEGORIES:Tanz\,Party & Disco
DESCRIPTION:Vielseitiges Live-Programm in der Zingster Scheune: Marco Pacco
  präsentiert Rock- und Pop-Klassiker auf seine eigene Art | Zingster Scheu
 ne\n\nmehr Informationen unter http://pages.destination.one/de/ostseebad-d
 ierhagen/streaming/detail/Event/InfomaxEvent_159827/marco-pacco-beste-live
 -unterhaltung-zingster-scheune
DTEND;TZID=Europe/Berlin:20260724T220000
DTSTAMP:20260423T083342Z
DTSTART;TZID=Europe/Berlin:20260724T180000
GEO:54.436708;12.683650
LOCATION:Restaurant Zingster Scheune\, Fischmarkt 1a\, Zingst
ORGANIZER;CN=Thieme GmbH Gastronomie & Einzelhandel:mailto:christian.p@thie
 me-gmbh.net
SEQUENCE:0
SUMMARY:Marco Pacco: Beste Live-Unterhaltung | Zingster Scheune
UID:InfomaxEvent_159827_iv3
URL:http://pages.destination.one/de/ostseebad-dierhagen/streaming/detail/Ev
 ent/InfomaxEvent_159827/marco-pacco-beste-live-unterhaltung-zingster-scheu
 ne
END:VEVENT
BEGIN:VEVENT
CATEGORIES:Rock\, Pop & Elektronische Musik
CATEGORIES:Tanz\,Party & Disco
DESCRIPTION:Vielseitiges Live-Programm in der Zingster Scheune: Marco Pacco
  präsentiert Rock- und Pop-Klassiker auf seine eigene Art | Zingster Scheu
 ne\n\nmehr Informationen unter http://pages.destination.one/de/ostseebad-d
 ierhagen/streaming/detail/Event/InfomaxEvent_159827/marco-pacco-beste-live
 -unterhaltung-zingster-scheune
DTEND;TZID=Europe/Berlin:20260731T220000
DTSTAMP:20260423T083342Z
DTSTART;TZID=Europe/Berlin:20260731T180000
GEO:54.436708;12.683650
LOCATION:Restaurant Zingster Scheune\, Fischmarkt 1a\, Zingst
ORGANIZER;CN=Thieme GmbH Gastronomie & Einzelhandel:mailto:christian.p@thie
 me-gmbh.net
SEQUENCE:0
SUMMARY:Marco Pacco: Beste Live-Unterhaltung | Zingster Scheune
UID:InfomaxEvent_159827_iv4
URL:http://pages.destination.one/de/ostseebad-dierhagen/streaming/detail/Ev
 ent/InfomaxEvent_159827/marco-pacco-beste-live-unterhaltung-zingster-scheu
 ne
END:VEVENT
BEGIN:VEVENT
CATEGORIES:Rock\, Pop & Elektronische Musik
CATEGORIES:Tanz\,Party & Disco
DESCRIPTION:Vielseitiges Live-Programm in der Zingster Scheune: Marco Pacco
  präsentiert Rock- und Pop-Klassiker auf seine eigene Art | Zingster Scheu
 ne\n\nmehr Informationen unter http://pages.destination.one/de/ostseebad-d
 ierhagen/streaming/detail/Event/InfomaxEvent_159827/marco-pacco-beste-live
 -unterhaltung-zingster-scheune
DTEND;TZID=Europe/Berlin:20260807T220000
DTSTAMP:20260423T083342Z
DTSTART;TZID=Europe/Berlin:20260807T180000
GEO:54.436708;12.683650
LOCATION:Restaurant Zingster Scheune\, Fischmarkt 1a\, Zingst
ORGANIZER;CN=Thieme GmbH Gastronomie & Einzelhandel:mailto:christian.p@thie
 me-gmbh.net
SEQUENCE:0
SUMMARY:Marco Pacco: Beste Live-Unterhaltung | Zingster Scheune
UID:InfomaxEvent_159827_iv5
URL:http://pages.destination.one/de/ostseebad-dierhagen/streaming/detail/Ev
 ent/InfomaxEvent_159827/marco-pacco-beste-live-unterhaltung-zingster-scheu
 ne
END:VEVENT
BEGIN:VEVENT
CATEGORIES:Rock\, Pop & Elektronische Musik
CATEGORIES:Tanz\,Party & Disco
DESCRIPTION:Vielseitiges Live-Programm in der Zingster Scheune: Marco Pacco
  präsentiert Rock- und Pop-Klassiker auf seine eigene Art | Zingster Scheu
 ne\n\nmehr Informationen unter http://pages.destination.one/de/ostseebad-d
 ierhagen/streaming/detail/Event/InfomaxEvent_159827/marco-pacco-beste-live
 -unterhaltung-zingster-scheune
DTEND;TZID=Europe/Berlin:20260814T220000
DTSTAMP:20260423T083342Z
DTSTART;TZID=Europe/Berlin:20260814T180000
GEO:54.436708;12.683650
LOCATION:Restaurant Zingster Scheune\, Fischmarkt 1a\, Zingst
ORGANIZER;CN=Thieme GmbH Gastronomie & Einzelhandel:mailto:christian.p@thie
 me-gmbh.net
SEQUENCE:0
SUMMARY:Marco Pacco: Beste Live-Unterhaltung | Zingster Scheune
UID:InfomaxEvent_159827_iv6
URL:http://pages.destination.one/de/ostseebad-dierhagen/streaming/detail/Ev
 ent/InfomaxEvent_159827/marco-pacco-beste-live-unterhaltung-zingster-scheu
 ne
END:VEVENT
BEGIN:VEVENT
CATEGORIES:Rock\, Pop & Elektronische Musik
CATEGORIES:Tanz\,Party & Disco
DESCRIPTION:Vielseitiges Live-Programm in der Zingster Scheune: Marco Pacco
  präsentiert Rock- und Pop-Klassiker auf seine eigene Art | Zingster Scheu
 ne\n\nmehr Informationen unter http://pages.destination.one/de/ostseebad-d
 ierhagen/streaming/detail/Event/InfomaxEvent_159827/marco-pacco-beste-live
 -unterhaltung-zingster-scheune
DTEND;TZID=Europe/Berlin:20260821T220000
DTSTAMP:20260423T083342Z
DTSTART;TZID=Europe/Berlin:20260821T180000
GEO:54.436708;12.683650
LOCATION:Restaurant Zingster Scheune\, Fischmarkt 1a\, Zingst
ORGANIZER;CN=Thieme GmbH Gastronomie & Einzelhandel:mailto:christian.p@thie
 me-gmbh.net
SEQUENCE:0
SUMMARY:Marco Pacco: Beste Live-Unterhaltung | Zingster Scheune
UID:InfomaxEvent_159827_iv7
URL:http://pages.destination.one/de/ostseebad-dierhagen/streaming/detail/Ev
 ent/InfomaxEvent_159827/marco-pacco-beste-live-unterhaltung-zingster-scheu
 ne
END:VEVENT
BEGIN:VEVENT
CATEGORIES:Rock\, Pop & Elektronische Musik
CATEGORIES:Tanz\,Party & Disco
DESCRIPTION:Vielseitiges Live-Programm in der Zingster Scheune: Marco Pacco
  präsentiert Rock- und Pop-Klassiker auf seine eigene Art | Zingster Scheu
 ne\n\nmehr Informationen unter http://pages.destination.one/de/ostseebad-d
 ierhagen/streaming/detail/Event/InfomaxEvent_159827/marco-pacco-beste-live
 -unterhaltung-zingster-scheune
DTEND;TZID=Europe/Berlin:20260828T220000
DTSTAMP:20260423T083342Z
DTSTART;TZID=Europe/Berlin:20260828T180000
GEO:54.436708;12.683650
LOCATION:Restaurant Zingster Scheune\, Fischmarkt 1a\, Zingst
ORGANIZER;CN=Thieme GmbH Gastronomie & Einzelhandel:mailto:christian.p@thie
 me-gmbh.net
SEQUENCE:0
SUMMARY:Marco Pacco: Beste Live-Unterhaltung | Zingster Scheune
UID:InfomaxEvent_159827_iv8
URL:http://pages.destination.one/de/ostseebad-dierhagen/streaming/detail/Ev
 ent/InfomaxEvent_159827/marco-pacco-beste-live-unterhaltung-zingster-scheu
 ne
END:VEVENT
BEGIN:VTIMEZONE
TZID:Europe/Berlin
X-LIC-LOCATION:Europe/Berlin
BEGIN:DAYLIGHT
DTSTART:19700329T020000
RRULE:FREQ=YEARLY;BYDAY=-1SU;BYMONTH=3
TZNAME:CEST
TZOFFSETFROM:+0100
TZOFFSETTO:+0200
END:DAYLIGHT
BEGIN:STANDARD
DTSTART:19701025T030000
RRULE:FREQ=YEARLY;BYDAY=-1SU;BYMONTH=10
TZNAME:CET
TZOFFSETFROM:+0200
TZOFFSETTO:+0100
END:STANDARD
END:VTIMEZONE
END:VCALENDAR
