BEGIN:VCALENDAR
VERSION:2.0
PRODID:-//destination.one//NONSGML destination.meta API//DE
X-WR-CALDESC:A calendar powered by destination.meta
X-WR-CALNAME:ostseebad-dierhagen Kalender via destination.meta
BEGIN:VEVENT
CATEGORIES:Rock\, Pop & Elektronische Musik
CATEGORIES:Tanz\,Party & Disco
DESCRIPTION:Lassen Sie den Tag im Ginger stilvoll ausklingen: DJ André begl
 eitet Ihren Abend mit exklusiven Lounge-Beats. | Restaurant Ginger\n\nmehr
  Informationen unter http://pages.destination.one/de/ostseebad-dierhagen/s
 treaming/detail/Event/InfomaxEvent_159821/ginger-sunset-chill-out-meeresbr
 ise-restaurant-ginger
DTEND;TZID=Europe/Berlin:20260707T220000
DTSTAMP:20260421T075855Z
DTSTART;TZID=Europe/Berlin:20260707T180000
GEO:54.382290;12.421911
LOCATION:Restaurant | Cafe | Bar Ginger\, Dorfstrasse 39\, Ahrenshoop
ORGANIZER;CN=Thieme GmbH Gastronomie & Einzelhandel:mailto:christian.p@thie
 me-gmbh.net
SEQUENCE:0
SUMMARY:Ginger Sunset: Chill-out & Meeresbrise | Restaurant Ginger
UID:InfomaxEvent_159821_iv0
URL:http://pages.destination.one/de/ostseebad-dierhagen/streaming/detail/Ev
 ent/InfomaxEvent_159821/ginger-sunset-chill-out-meeresbrise-restaurant-gin
 ger
END:VEVENT
BEGIN:VEVENT
CATEGORIES:Rock\, Pop & Elektronische Musik
CATEGORIES:Tanz\,Party & Disco
DESCRIPTION:Lassen Sie den Tag im Ginger stilvoll ausklingen: DJ André begl
 eitet Ihren Abend mit exklusiven Lounge-Beats. | Restaurant Ginger\n\nmehr
  Informationen unter http://pages.destination.one/de/ostseebad-dierhagen/s
 treaming/detail/Event/InfomaxEvent_159821/ginger-sunset-chill-out-meeresbr
 ise-restaurant-ginger
DTEND;TZID=Europe/Berlin:20260714T220000
DTSTAMP:20260421T075855Z
DTSTART;TZID=Europe/Berlin:20260714T180000
GEO:54.382290;12.421911
LOCATION:Restaurant | Cafe | Bar Ginger\, Dorfstrasse 39\, Ahrenshoop
ORGANIZER;CN=Thieme GmbH Gastronomie & Einzelhandel:mailto:christian.p@thie
 me-gmbh.net
SEQUENCE:0
SUMMARY:Ginger Sunset: Chill-out & Meeresbrise | Restaurant Ginger
UID:InfomaxEvent_159821_iv1
URL:http://pages.destination.one/de/ostseebad-dierhagen/streaming/detail/Ev
 ent/InfomaxEvent_159821/ginger-sunset-chill-out-meeresbrise-restaurant-gin
 ger
END:VEVENT
BEGIN:VEVENT
CATEGORIES:Rock\, Pop & Elektronische Musik
CATEGORIES:Tanz\,Party & Disco
DESCRIPTION:Lassen Sie den Tag im Ginger stilvoll ausklingen: DJ André begl
 eitet Ihren Abend mit exklusiven Lounge-Beats. | Restaurant Ginger\n\nmehr
  Informationen unter http://pages.destination.one/de/ostseebad-dierhagen/s
 treaming/detail/Event/InfomaxEvent_159821/ginger-sunset-chill-out-meeresbr
 ise-restaurant-ginger
DTEND;TZID=Europe/Berlin:20260721T220000
DTSTAMP:20260421T075855Z
DTSTART;TZID=Europe/Berlin:20260721T180000
GEO:54.382290;12.421911
LOCATION:Restaurant | Cafe | Bar Ginger\, Dorfstrasse 39\, Ahrenshoop
ORGANIZER;CN=Thieme GmbH Gastronomie & Einzelhandel:mailto:christian.p@thie
 me-gmbh.net
SEQUENCE:0
SUMMARY:Ginger Sunset: Chill-out & Meeresbrise | Restaurant Ginger
UID:InfomaxEvent_159821_iv2
URL:http://pages.destination.one/de/ostseebad-dierhagen/streaming/detail/Ev
 ent/InfomaxEvent_159821/ginger-sunset-chill-out-meeresbrise-restaurant-gin
 ger
END:VEVENT
BEGIN:VEVENT
CATEGORIES:Rock\, Pop & Elektronische Musik
CATEGORIES:Tanz\,Party & Disco
DESCRIPTION:Lassen Sie den Tag im Ginger stilvoll ausklingen: DJ André begl
 eitet Ihren Abend mit exklusiven Lounge-Beats. | Restaurant Ginger\n\nmehr
  Informationen unter http://pages.destination.one/de/ostseebad-dierhagen/s
 treaming/detail/Event/InfomaxEvent_159821/ginger-sunset-chill-out-meeresbr
 ise-restaurant-ginger
DTEND;TZID=Europe/Berlin:20260728T220000
DTSTAMP:20260421T075855Z
DTSTART;TZID=Europe/Berlin:20260728T180000
GEO:54.382290;12.421911
LOCATION:Restaurant | Cafe | Bar Ginger\, Dorfstrasse 39\, Ahrenshoop
ORGANIZER;CN=Thieme GmbH Gastronomie & Einzelhandel:mailto:christian.p@thie
 me-gmbh.net
SEQUENCE:0
SUMMARY:Ginger Sunset: Chill-out & Meeresbrise | Restaurant Ginger
UID:InfomaxEvent_159821_iv3
URL:http://pages.destination.one/de/ostseebad-dierhagen/streaming/detail/Ev
 ent/InfomaxEvent_159821/ginger-sunset-chill-out-meeresbrise-restaurant-gin
 ger
END:VEVENT
BEGIN:VEVENT
CATEGORIES:Rock\, Pop & Elektronische Musik
CATEGORIES:Tanz\,Party & Disco
DESCRIPTION:Lassen Sie den Tag im Ginger stilvoll ausklingen: DJ André begl
 eitet Ihren Abend mit exklusiven Lounge-Beats. | Restaurant Ginger\n\nmehr
  Informationen unter http://pages.destination.one/de/ostseebad-dierhagen/s
 treaming/detail/Event/InfomaxEvent_159821/ginger-sunset-chill-out-meeresbr
 ise-restaurant-ginger
DTEND;TZID=Europe/Berlin:20260804T220000
DTSTAMP:20260421T075855Z
DTSTART;TZID=Europe/Berlin:20260804T180000
GEO:54.382290;12.421911
LOCATION:Restaurant | Cafe | Bar Ginger\, Dorfstrasse 39\, Ahrenshoop
ORGANIZER;CN=Thieme GmbH Gastronomie & Einzelhandel:mailto:christian.p@thie
 me-gmbh.net
SEQUENCE:0
SUMMARY:Ginger Sunset: Chill-out & Meeresbrise | Restaurant Ginger
UID:InfomaxEvent_159821_iv4
URL:http://pages.destination.one/de/ostseebad-dierhagen/streaming/detail/Ev
 ent/InfomaxEvent_159821/ginger-sunset-chill-out-meeresbrise-restaurant-gin
 ger
END:VEVENT
BEGIN:VEVENT
CATEGORIES:Rock\, Pop & Elektronische Musik
CATEGORIES:Tanz\,Party & Disco
DESCRIPTION:Lassen Sie den Tag im Ginger stilvoll ausklingen: DJ André begl
 eitet Ihren Abend mit exklusiven Lounge-Beats. | Restaurant Ginger\n\nmehr
  Informationen unter http://pages.destination.one/de/ostseebad-dierhagen/s
 treaming/detail/Event/InfomaxEvent_159821/ginger-sunset-chill-out-meeresbr
 ise-restaurant-ginger
DTEND;TZID=Europe/Berlin:20260811T220000
DTSTAMP:20260421T075855Z
DTSTART;TZID=Europe/Berlin:20260811T180000
GEO:54.382290;12.421911
LOCATION:Restaurant | Cafe | Bar Ginger\, Dorfstrasse 39\, Ahrenshoop
ORGANIZER;CN=Thieme GmbH Gastronomie & Einzelhandel:mailto:christian.p@thie
 me-gmbh.net
SEQUENCE:0
SUMMARY:Ginger Sunset: Chill-out & Meeresbrise | Restaurant Ginger
UID:InfomaxEvent_159821_iv5
URL:http://pages.destination.one/de/ostseebad-dierhagen/streaming/detail/Ev
 ent/InfomaxEvent_159821/ginger-sunset-chill-out-meeresbrise-restaurant-gin
 ger
END:VEVENT
BEGIN:VEVENT
CATEGORIES:Rock\, Pop & Elektronische Musik
CATEGORIES:Tanz\,Party & Disco
DESCRIPTION:Lassen Sie den Tag im Ginger stilvoll ausklingen: DJ André begl
 eitet Ihren Abend mit exklusiven Lounge-Beats. | Restaurant Ginger\n\nmehr
  Informationen unter http://pages.destination.one/de/ostseebad-dierhagen/s
 treaming/detail/Event/InfomaxEvent_159821/ginger-sunset-chill-out-meeresbr
 ise-restaurant-ginger
DTEND;TZID=Europe/Berlin:20260818T220000
DTSTAMP:20260421T075855Z
DTSTART;TZID=Europe/Berlin:20260818T180000
GEO:54.382290;12.421911
LOCATION:Restaurant | Cafe | Bar Ginger\, Dorfstrasse 39\, Ahrenshoop
ORGANIZER;CN=Thieme GmbH Gastronomie & Einzelhandel:mailto:christian.p@thie
 me-gmbh.net
SEQUENCE:0
SUMMARY:Ginger Sunset: Chill-out & Meeresbrise | Restaurant Ginger
UID:InfomaxEvent_159821_iv6
URL:http://pages.destination.one/de/ostseebad-dierhagen/streaming/detail/Ev
 ent/InfomaxEvent_159821/ginger-sunset-chill-out-meeresbrise-restaurant-gin
 ger
END:VEVENT
BEGIN:VEVENT
CATEGORIES:Rock\, Pop & Elektronische Musik
CATEGORIES:Tanz\,Party & Disco
DESCRIPTION:Lassen Sie den Tag im Ginger stilvoll ausklingen: DJ André begl
 eitet Ihren Abend mit exklusiven Lounge-Beats. | Restaurant Ginger\n\nmehr
  Informationen unter http://pages.destination.one/de/ostseebad-dierhagen/s
 treaming/detail/Event/InfomaxEvent_159821/ginger-sunset-chill-out-meeresbr
 ise-restaurant-ginger
DTEND;TZID=Europe/Berlin:20260825T220000
DTSTAMP:20260421T075855Z
DTSTART;TZID=Europe/Berlin:20260825T180000
GEO:54.382290;12.421911
LOCATION:Restaurant | Cafe | Bar Ginger\, Dorfstrasse 39\, Ahrenshoop
ORGANIZER;CN=Thieme GmbH Gastronomie & Einzelhandel:mailto:christian.p@thie
 me-gmbh.net
SEQUENCE:0
SUMMARY:Ginger Sunset: Chill-out & Meeresbrise | Restaurant Ginger
UID:InfomaxEvent_159821_iv7
URL:http://pages.destination.one/de/ostseebad-dierhagen/streaming/detail/Ev
 ent/InfomaxEvent_159821/ginger-sunset-chill-out-meeresbrise-restaurant-gin
 ger
END:VEVENT
BEGIN:VTIMEZONE
TZID:Europe/Berlin
X-LIC-LOCATION:Europe/Berlin
BEGIN:DAYLIGHT
DTSTART:19700329T020000
RRULE:FREQ=YEARLY;BYDAY=-1SU;BYMONTH=3
TZNAME:CEST
TZOFFSETFROM:+0100
TZOFFSETTO:+0200
END:DAYLIGHT
BEGIN:STANDARD
DTSTART:19701025T030000
RRULE:FREQ=YEARLY;BYDAY=-1SU;BYMONTH=10
TZNAME:CET
TZOFFSETFROM:+0200
TZOFFSETTO:+0100
END:STANDARD
END:VTIMEZONE
END:VCALENDAR
