BEGIN:VCALENDAR
VERSION:2.0
PRODID:-//destination.one//NONSGML destination.meta API//DE
X-WR-CALDESC:A calendar powered by destination.meta
X-WR-CALNAME:ostseebad-dierhagen Kalender via destination.meta
BEGIN:VEVENT
CATEGORIES:Ausstellung
CATEGORIES:Vortrag & Wissenschaft
DESCRIPTION:Der Genius Loci in norddeutschen Landschaftsgemälden um 1900\n\
 nmehr Informationen unter http://pages.destination.one/de/ostseebad-dierha
 gen/streaming/detail/Event/InfomaxEvent_157301/museumsakademie-fischland-d
 ar
DTEND;TZID=Europe/Berlin:20260423T203000
DTSTAMP:20260421T135824Z
DTSTART;TZID=Europe/Berlin:20260423T190000
GEO:54.375110;12.415910
LOCATION:Kunstmuseum Ahrenshoop\, Weg zum Hohen Ufer 36\, Ahrenshoop
ORGANIZER;CN=Kunstmuseum Ahrenshoop:mailto:info@kunstmuseum-ahrenshoop.de
SEQUENCE:0
SUMMARY:MuseumsAkademie Fischland-Darß
UID:InfomaxEvent_157301_iv0
URL:http://pages.destination.one/de/ostseebad-dierhagen/streaming/detail/Ev
 ent/InfomaxEvent_157301/museumsakademie-fischland-dar
END:VEVENT
BEGIN:VTIMEZONE
TZID:Europe/Berlin
X-LIC-LOCATION:Europe/Berlin
BEGIN:DAYLIGHT
DTSTART:19700329T020000
RRULE:FREQ=YEARLY;BYDAY=-1SU;BYMONTH=3
TZNAME:CEST
TZOFFSETFROM:+0100
TZOFFSETTO:+0200
END:DAYLIGHT
BEGIN:STANDARD
DTSTART:19701025T030000
RRULE:FREQ=YEARLY;BYDAY=-1SU;BYMONTH=10
TZNAME:CET
TZOFFSETFROM:+0200
TZOFFSETTO:+0100
END:STANDARD
END:VTIMEZONE
END:VCALENDAR
