BEGIN:VCALENDAR
VERSION:2.0
PRODID:-//destination.one//NONSGML destination.meta API//DE
X-WR-CALDESC:A calendar powered by destination.meta
X-WR-CALNAME:ostseebad-dierhagen Kalender via destination.meta
BEGIN:VEVENT
CATEGORIES:Ausstellung
DESCRIPTION:Ausstellung: Arbeiten der Josepha-Stipendiatinnen:Isabella Mart
 in\, Patrycja Orzechowska\, Felicitas Fäßler\, Olga Moș\, Kuratiert von: O
 ksana Yushko\n\nmehr Informationen unter http://pages.destination.one/de/o
 stseebad-dierhagen/streaming/detail/Event/InfomaxEvent_157298/ausstellung-
 open-gallery-weekend
DTEND;TZID=Europe/Berlin:20260425T170000
DTSTAMP:20260424T082546Z
DTSTART;TZID=Europe/Berlin:20260425T120000
GEO:54.383350;12.426520
LOCATION:Atelier Josepha\, Schifferberg 2a\, Ahrenshoop
ORGANIZER;CN=Atelier Josepha:mailto:post@josepha.org
SEQUENCE:0
SUMMARY:Ausstellung Open Gallery Weekend
UID:InfomaxEvent_157298_iv0
URL:http://pages.destination.one/de/ostseebad-dierhagen/streaming/detail/Ev
 ent/InfomaxEvent_157298/ausstellung-open-gallery-weekend
END:VEVENT
BEGIN:VTIMEZONE
TZID:Europe/Berlin
X-LIC-LOCATION:Europe/Berlin
BEGIN:DAYLIGHT
DTSTART:19700329T020000
RRULE:FREQ=YEARLY;BYDAY=-1SU;BYMONTH=3
TZNAME:CEST
TZOFFSETFROM:+0100
TZOFFSETTO:+0200
END:DAYLIGHT
BEGIN:STANDARD
DTSTART:19701025T030000
RRULE:FREQ=YEARLY;BYDAY=-1SU;BYMONTH=10
TZNAME:CET
TZOFFSETFROM:+0200
TZOFFSETTO:+0100
END:STANDARD
END:VTIMEZONE
END:VCALENDAR
