BEGIN:VCALENDAR
VERSION:2.0
PRODID:-//destination.one//NONSGML destination.meta API//DE
X-WR-CALDESC:A calendar powered by destination.meta
X-WR-CALNAME:ostseebad-dierhagen Kalender via destination.meta
BEGIN:VEVENT
CATEGORIES:Rock\, Pop & Elektronische Musik
DESCRIPTION:Tino Z Mystery of Country\, Rock & Blues Tino Z ist eine legend
 äre One Man Band die ihresgleichen sucht. Er singt\, spielt Gitarre und B
 assdrum und das alles gleichzeitig.\n\nmehr Informationen unter http://pag
 es.destination.one/de/ostseebad-dierhagen/streaming/detail/Event/InfomaxEv
 ent_157290/kontert-tino-z-mystery-of-country-rock-of-blues
DTEND;TZID=Europe/Berlin:20260722T213000
DTSTAMP:20260421T093332Z
DTSTART;TZID=Europe/Berlin:20260722T200000
GEO:54.384469;12.429196
LOCATION:Ahrenshoop Romantik Hotel Fischerwiege\, Schifferberg 9a\, Ahrensh
 oop
SEQUENCE:0
SUMMARY:Kontert - Tino Z Mystery of Country\, Rock of Blues
UID:InfomaxEvent_157290_iv0
URL:http://pages.destination.one/de/ostseebad-dierhagen/streaming/detail/Ev
 ent/InfomaxEvent_157290/kontert-tino-z-mystery-of-country-rock-of-blues
END:VEVENT
BEGIN:VTIMEZONE
TZID:Europe/Berlin
X-LIC-LOCATION:Europe/Berlin
BEGIN:DAYLIGHT
DTSTART:19700329T020000
RRULE:FREQ=YEARLY;BYDAY=-1SU;BYMONTH=3
TZNAME:CEST
TZOFFSETFROM:+0100
TZOFFSETTO:+0200
END:DAYLIGHT
BEGIN:STANDARD
DTSTART:19701025T030000
RRULE:FREQ=YEARLY;BYDAY=-1SU;BYMONTH=10
TZNAME:CET
TZOFFSETFROM:+0200
TZOFFSETTO:+0100
END:STANDARD
END:VTIMEZONE
END:VCALENDAR
