BEGIN:VCALENDAR
VERSION:2.0
PRODID:-//destination.one//NONSGML destination.meta API//DE
X-WR-CALDESC:A calendar powered by destination.meta
X-WR-CALNAME:ostseebad-dierhagen Kalender via destination.meta
BEGIN:VEVENT
CATEGORIES:Ausstellung
DESCRIPTION:Die Galerie im Kloster lädt zur Eröffnung der neuen Ausstellung
  von Adrian Mudder ein. Gezeigt werden überwiegend nächtliche Szenerien\, 
 in denen sich persönliche Stimmungen und gesellschaftliche Spannungen spie
 geln.\n\nmehr Informationen unter http://pages.destination.one/de/ostseeba
 d-dierhagen/streaming/detail/Event/InfomaxEvent_155364/er-ffnung-der-ausst
 ellung-adrian-mudder-mostly-at-night
DTEND;TZID=Europe/Berlin:20260426T171500
DTSTAMP:20260425T140531Z
DTSTART;TZID=Europe/Berlin:20260426T170000
GEO:54.241490;12.431900
LOCATION:Galerie im Kloster\, Im Kloster 9\, Ribnitz-Damgarten
ORGANIZER;CN=Galerie im Kloster:mailto:info@galerie-ribnitz.de
SEQUENCE:0
SUMMARY:Eröffnung der Ausstellung „Adrian Mudder | mostly at night“
UID:InfomaxEvent_155364_iv0
URL:http://pages.destination.one/de/ostseebad-dierhagen/streaming/detail/Ev
 ent/InfomaxEvent_155364/er-ffnung-der-ausstellung-adrian-mudder-mostly-at-
 night
END:VEVENT
BEGIN:VTIMEZONE
TZID:Europe/Berlin
X-LIC-LOCATION:Europe/Berlin
BEGIN:DAYLIGHT
DTSTART:19700329T020000
RRULE:FREQ=YEARLY;BYDAY=-1SU;BYMONTH=3
TZNAME:CEST
TZOFFSETFROM:+0100
TZOFFSETTO:+0200
END:DAYLIGHT
BEGIN:STANDARD
DTSTART:19701025T030000
RRULE:FREQ=YEARLY;BYDAY=-1SU;BYMONTH=10
TZNAME:CET
TZOFFSETFROM:+0200
TZOFFSETTO:+0100
END:STANDARD
END:VTIMEZONE
END:VCALENDAR
