BEGIN:VCALENDAR
VERSION:2.0
PRODID:-//destination.one//NONSGML destination.meta API//DE
X-WR-CALDESC:A calendar powered by destination.meta
X-WR-CALNAME:ostseebad-dierhagen Kalender via destination.meta
BEGIN:VEVENT
CATEGORIES:Führungen & Touren
CATEGORIES:Kinder
CATEGORIES:Natur
DESCRIPTION:Die Hofbesichtigungen auf Gut Darß sind eine beliebte Abwechslu
 ng für die gesamte Familie! Erleben Sie bei einer geführten Besichtigung d
 as Gut mit seinen Tieren und seiner modernen Technik - Vergangenheit und G
 egenwart zusammen! Spannende Einblicke für Groß und Klein. Spezielle Kinde
 r–Gutsführungen in den Ferien Di. Do.\n\nmehr Informationen unter http://p
 ages.destination.one/de/ostseebad-dierhagen/streaming/detail/Event/Infomax
 Event_122612/hofbesichtigung-gut-dar
DTEND;TZID=Europe/Berlin:20260504T123000
DTSTAMP:20260423T092331Z
DTSTART;TZID=Europe/Berlin:20260504T110000
GEO:54.386301;12.517634
LOCATION:Erlebnishof Gut Darß \, Am Wald 26\, Born
ORGANIZER;CN=Erlebnishof Gut Darß :mailto:info@gut-darss.de
RRULE:FREQ=WEEKLY;UNTIL=20261030T230000;BYDAY=MO,TU,WE,TH,FR,SA
SEQUENCE:0
SUMMARY:Hofbesichtigung Gut Darß 
UID:InfomaxEvent_122612_iv0
URL:http://pages.destination.one/de/ostseebad-dierhagen/streaming/detail/Ev
 ent/InfomaxEvent_122612/hofbesichtigung-gut-dar
END:VEVENT
BEGIN:VTIMEZONE
TZID:Europe/Berlin
X-LIC-LOCATION:Europe/Berlin
BEGIN:DAYLIGHT
DTSTART:19700329T020000
RRULE:FREQ=YEARLY;BYDAY=-1SU;BYMONTH=3
TZNAME:CEST
TZOFFSETFROM:+0100
TZOFFSETTO:+0200
END:DAYLIGHT
BEGIN:STANDARD
DTSTART:19701025T030000
RRULE:FREQ=YEARLY;BYDAY=-1SU;BYMONTH=10
TZNAME:CET
TZOFFSETFROM:+0200
TZOFFSETTO:+0100
END:STANDARD
END:VTIMEZONE
END:VCALENDAR
