BEGIN:VCALENDAR
VERSION:2.0
PRODID:-//destination.one//NONSGML destination.meta API//DE
X-WR-CALDESC:A calendar powered by destination.meta
X-WR-CALNAME:ostseebad-dierhagen Kalender via destination.meta
BEGIN:VEVENT
CATEGORIES:Weltmusik
CATEGORIES:Klassik
CATEGORIES:Theater & Bühne
CATEGORIES:Musikland MV
CATEGORIES:natürlich romantisch
DESCRIPTION:Weihnachts-Konzert\n\nmehr Informationen unter http://pages.des
 tination.one/de/ostseebad-dierhagen/streaming/detail/Event/InfomaxEvent_11
 7126/duo-liaisong
DTEND;TZID=Europe/Berlin:20261223T171500
DTSTAMP:20260423T092221Z
DTSTART;TZID=Europe/Berlin:20261223T170000
GEO:54.348390;12.401400
LOCATION:Fischlandhaus Wustrow\, Neue Straße 38\, Ostseebad Wustrow
ORGANIZER;CN=Haus des Gastes:mailto:kurverwaltung@ostseebad-wustrow.de
SEQUENCE:0
SUMMARY:Duo LIAISONG
UID:InfomaxEvent_117126_iv0
URL:http://pages.destination.one/de/ostseebad-dierhagen/streaming/detail/Ev
 ent/InfomaxEvent_117126/duo-liaisong
END:VEVENT
BEGIN:VTIMEZONE
TZID:Europe/Berlin
X-LIC-LOCATION:Europe/Berlin
BEGIN:DAYLIGHT
DTSTART:19700329T020000
RRULE:FREQ=YEARLY;BYDAY=-1SU;BYMONTH=3
TZNAME:CEST
TZOFFSETFROM:+0100
TZOFFSETTO:+0200
END:DAYLIGHT
BEGIN:STANDARD
DTSTART:19701025T030000
RRULE:FREQ=YEARLY;BYDAY=-1SU;BYMONTH=10
TZNAME:CET
TZOFFSETFROM:+0200
TZOFFSETTO:+0100
END:STANDARD
END:VTIMEZONE
END:VCALENDAR
