BEGIN:VCALENDAR
VERSION:2.0
PRODID:-//destination.one//NONSGML destination.meta API//DE
X-WR-CALDESC:A calendar powered by destination.meta
X-WR-CALNAME:ostseebad-dierhagen Kalender via destination.meta
BEGIN:VEVENT
CATEGORIES:Markt & Fest
DESCRIPTION:Spielzeug\, Bücher\, Kleidung\, Antiquitäten und mehr! - Anmeld
 ung ab April 2026 möglich -\n\nmehr Informationen unter http://pages.desti
 nation.one/de/ostseebad-dierhagen/streaming/detail/Event/InfomaxEvent_1136
 90/4-wustrower-flohmarkt
DTEND;TZID=Europe/Berlin:20260606T160000
DTSTAMP:20260423T092221Z
DTSTART;TZID=Europe/Berlin:20260606T100000
GEO:54.350190;12.393070
LOCATION:Seebrückenvorplatz Wustrow\, Strandstraße\, Ostseebad Wustrow
ORGANIZER;CN=Haus des Gastes:mailto:kurverwaltung@ostseebad-wustrow.de
SEQUENCE:0
SUMMARY:4. Wustrower Flohmarkt
UID:InfomaxEvent_113690_iv0
URL:http://pages.destination.one/de/ostseebad-dierhagen/streaming/detail/Ev
 ent/InfomaxEvent_113690/4-wustrower-flohmarkt
END:VEVENT
BEGIN:VTIMEZONE
TZID:Europe/Berlin
X-LIC-LOCATION:Europe/Berlin
BEGIN:DAYLIGHT
DTSTART:19700329T020000
RRULE:FREQ=YEARLY;BYDAY=-1SU;BYMONTH=3
TZNAME:CEST
TZOFFSETFROM:+0100
TZOFFSETTO:+0200
END:DAYLIGHT
BEGIN:STANDARD
DTSTART:19701025T030000
RRULE:FREQ=YEARLY;BYDAY=-1SU;BYMONTH=10
TZNAME:CET
TZOFFSETFROM:+0200
TZOFFSETTO:+0100
END:STANDARD
END:VTIMEZONE
END:VCALENDAR
