BEGIN:VCALENDAR
VERSION:2.0
PRODID:-//destination.one//NONSGML destination.meta API//DE
X-WR-CALDESC:A calendar powered by destination.meta
X-WR-CALNAME:ostseebad-dierhagen Kalender via destination.meta
BEGIN:VEVENT
CATEGORIES:Tanz\,Party & Disco
DESCRIPTION:im Festzelt\n\nmehr Informationen unter http://pages.destinatio
 n.one/de/ostseebad-dierhagen/streaming/detail/Event/InfomaxEvent_111708/di
 sco-am-vorabend-des-tonnenabschlagens
DTEND;TZID=Europe/Berlin:20260711T201500
DTSTAMP:20260423T092254Z
DTSTART;TZID=Europe/Berlin:20260711T200000
GEO:54.347760;12.392720
LOCATION:Festplatz Wustrow\, Direktor-Schütz-Weg\, Ostseebad Wustrow
ORGANIZER;CN=Tonnenbund Ostseebad Wustrow e. V.:https://www.tonnenbund-wust
 row.de/
SEQUENCE:0
SUMMARY:Disco am Vorabend des Tonnenabschlagens
UID:InfomaxEvent_111708_iv0
URL:http://pages.destination.one/de/ostseebad-dierhagen/streaming/detail/Ev
 ent/InfomaxEvent_111708/disco-am-vorabend-des-tonnenabschlagens
END:VEVENT
BEGIN:VTIMEZONE
TZID:Europe/Berlin
X-LIC-LOCATION:Europe/Berlin
BEGIN:DAYLIGHT
DTSTART:19700329T020000
RRULE:FREQ=YEARLY;BYDAY=-1SU;BYMONTH=3
TZNAME:CEST
TZOFFSETFROM:+0100
TZOFFSETTO:+0200
END:DAYLIGHT
BEGIN:STANDARD
DTSTART:19701025T030000
RRULE:FREQ=YEARLY;BYDAY=-1SU;BYMONTH=10
TZNAME:CET
TZOFFSETFROM:+0200
TZOFFSETTO:+0100
END:STANDARD
END:VTIMEZONE
END:VCALENDAR
