BEGIN:VCALENDAR
VERSION:2.0
PRODID:-//destination.one//NONSGML destination.meta API//DE
X-WR-CALDESC:A calendar powered by destination.meta
X-WR-CALNAME:ostseebad-dierhagen Kalender via destination.meta
BEGIN:VEVENT
CATEGORIES:Führungen & Touren
DESCRIPTION:Ca. 2-stündige Erkundungstour durch den Fischer- und Seefahrero
 rt Wustrow mit Dr. Zita Ágota Pataki\n\nmehr Informationen unter http://pa
 ges.destination.one/de/ostseebad-dierhagen/streaming/detail/Event/InfomaxE
 vent_108872/gef-hrte-winterwanderung
DTEND;TZID=Europe/Berlin:20261228T120000
DTSTAMP:20260423T083206Z
DTSTART;TZID=Europe/Berlin:20261228T100000
GEO:54.346300;12.397190
LOCATION:Treff: Haus des Gastes\, Ernst-Thälmann-Str. 11\, Ostseebad Wustro
 w
ORGANIZER;CN=Haus des Gastes:mailto:kurverwaltung@ostseebad-wustrow.de
SEQUENCE:0
SUMMARY:Geführte Winterwanderung
UID:InfomaxEvent_108872_iv0
URL:http://pages.destination.one/de/ostseebad-dierhagen/streaming/detail/Ev
 ent/InfomaxEvent_108872/gef-hrte-winterwanderung
END:VEVENT
BEGIN:VTIMEZONE
TZID:Europe/Berlin
X-LIC-LOCATION:Europe/Berlin
BEGIN:DAYLIGHT
DTSTART:19700329T020000
RRULE:FREQ=YEARLY;BYDAY=-1SU;BYMONTH=3
TZNAME:CEST
TZOFFSETFROM:+0100
TZOFFSETTO:+0200
END:DAYLIGHT
BEGIN:STANDARD
DTSTART:19701025T030000
RRULE:FREQ=YEARLY;BYDAY=-1SU;BYMONTH=10
TZNAME:CET
TZOFFSETFROM:+0200
TZOFFSETTO:+0100
END:STANDARD
END:VTIMEZONE
END:VCALENDAR
