BEGIN:VCALENDAR
VERSION:2.0
PRODID:-//destination.one//NONSGML destination.meta API//DE
X-WR-CALDESC:A calendar powered by destination.meta
X-WR-CALNAME:ostseebad-dierhagen Kalender via destination.meta
BEGIN:VEVENT
CATEGORIES:Theater & Bühne
DESCRIPTION:Eine Hommage an den Schmunzelmeister der Nation mit Hanno Loyda
 \n\nmehr Informationen unter http://pages.destination.one/de/ostseebad-die
 rhagen/streaming/detail/Event/InfomaxEvent_100971/der-gro-e-heinz-erhardt-
 abend
DTEND;TZID=Europe/Berlin:20250516T201500
DTSTAMP:20260424T082454Z
DTSTART;TZID=Europe/Berlin:20250516T200000
GEO:54.384500;12.429200
LOCATION:Romantik Hotel Fischerwiege\, Schifferberg 9a\, Ahrenshoop
ORGANIZER;CN=Romantik Hotel Fischerwiege :mailto:info@hotel-namenlos.de
SEQUENCE:0
SUMMARY:Der große Heinz-Erhardt-Abend
UID:InfomaxEvent_100971_iv0
URL:http://pages.destination.one/de/ostseebad-dierhagen/streaming/detail/Ev
 ent/InfomaxEvent_100971/der-gro-e-heinz-erhardt-abend
END:VEVENT
BEGIN:VEVENT
CATEGORIES:Theater & Bühne
DESCRIPTION:Eine Hommage an den Schmunzelmeister der Nation mit Hanno Loyda
 \n\nmehr Informationen unter http://pages.destination.one/de/ostseebad-die
 rhagen/streaming/detail/Event/InfomaxEvent_100971/der-gro-e-heinz-erhardt-
 abend
DTEND;TZID=Europe/Berlin:20250613T201500
DTSTAMP:20260424T082454Z
DTSTART;TZID=Europe/Berlin:20250613T200000
GEO:54.384500;12.429200
LOCATION:Romantik Hotel Fischerwiege\, Schifferberg 9a\, Ahrenshoop
ORGANIZER;CN=Romantik Hotel Fischerwiege :mailto:info@hotel-namenlos.de
SEQUENCE:0
SUMMARY:Der große Heinz-Erhardt-Abend
UID:InfomaxEvent_100971_iv1
URL:http://pages.destination.one/de/ostseebad-dierhagen/streaming/detail/Ev
 ent/InfomaxEvent_100971/der-gro-e-heinz-erhardt-abend
END:VEVENT
BEGIN:VEVENT
CATEGORIES:Theater & Bühne
DESCRIPTION:Eine Hommage an den Schmunzelmeister der Nation mit Hanno Loyda
 \n\nmehr Informationen unter http://pages.destination.one/de/ostseebad-die
 rhagen/streaming/detail/Event/InfomaxEvent_100971/der-gro-e-heinz-erhardt-
 abend
DTEND;TZID=Europe/Berlin:20250626T201500
DTSTAMP:20260424T082454Z
DTSTART;TZID=Europe/Berlin:20250626T200000
GEO:54.384500;12.429200
LOCATION:Romantik Hotel Fischerwiege\, Schifferberg 9a\, Ahrenshoop
ORGANIZER;CN=Romantik Hotel Fischerwiege :mailto:info@hotel-namenlos.de
SEQUENCE:0
SUMMARY:Der große Heinz-Erhardt-Abend
UID:InfomaxEvent_100971_iv2
URL:http://pages.destination.one/de/ostseebad-dierhagen/streaming/detail/Ev
 ent/InfomaxEvent_100971/der-gro-e-heinz-erhardt-abend
END:VEVENT
BEGIN:VEVENT
CATEGORIES:Theater & Bühne
DESCRIPTION:Eine Hommage an den Schmunzelmeister der Nation mit Hanno Loyda
 \n\nmehr Informationen unter http://pages.destination.one/de/ostseebad-die
 rhagen/streaming/detail/Event/InfomaxEvent_100971/der-gro-e-heinz-erhardt-
 abend
DTEND;TZID=Europe/Berlin:20250827T201500
DTSTAMP:20260424T082454Z
DTSTART;TZID=Europe/Berlin:20250827T200000
GEO:54.384500;12.429200
LOCATION:Romantik Hotel Fischerwiege\, Schifferberg 9a\, Ahrenshoop
ORGANIZER;CN=Romantik Hotel Fischerwiege :mailto:info@hotel-namenlos.de
SEQUENCE:0
SUMMARY:Der große Heinz-Erhardt-Abend
UID:InfomaxEvent_100971_iv3
URL:http://pages.destination.one/de/ostseebad-dierhagen/streaming/detail/Ev
 ent/InfomaxEvent_100971/der-gro-e-heinz-erhardt-abend
END:VEVENT
BEGIN:VEVENT
CATEGORIES:Theater & Bühne
DESCRIPTION:Eine Hommage an den Schmunzelmeister der Nation mit Hanno Loyda
 \n\nmehr Informationen unter http://pages.destination.one/de/ostseebad-die
 rhagen/streaming/detail/Event/InfomaxEvent_100971/der-gro-e-heinz-erhardt-
 abend
DTEND;TZID=Europe/Berlin:20250911T201500
DTSTAMP:20260424T082454Z
DTSTART;TZID=Europe/Berlin:20250911T200000
GEO:54.384500;12.429200
LOCATION:Romantik Hotel Fischerwiege\, Schifferberg 9a\, Ahrenshoop
ORGANIZER;CN=Romantik Hotel Fischerwiege :mailto:info@hotel-namenlos.de
SEQUENCE:0
SUMMARY:Der große Heinz-Erhardt-Abend
UID:InfomaxEvent_100971_iv4
URL:http://pages.destination.one/de/ostseebad-dierhagen/streaming/detail/Ev
 ent/InfomaxEvent_100971/der-gro-e-heinz-erhardt-abend
END:VEVENT
BEGIN:VEVENT
CATEGORIES:Theater & Bühne
DESCRIPTION:Eine Hommage an den Schmunzelmeister der Nation mit Hanno Loyda
 \n\nmehr Informationen unter http://pages.destination.one/de/ostseebad-die
 rhagen/streaming/detail/Event/InfomaxEvent_100971/der-gro-e-heinz-erhardt-
 abend
DTEND;TZID=Europe/Berlin:20250925T201500
DTSTAMP:20260424T082454Z
DTSTART;TZID=Europe/Berlin:20250925T200000
GEO:54.384500;12.429200
LOCATION:Romantik Hotel Fischerwiege\, Schifferberg 9a\, Ahrenshoop
ORGANIZER;CN=Romantik Hotel Fischerwiege :mailto:info@hotel-namenlos.de
SEQUENCE:0
SUMMARY:Der große Heinz-Erhardt-Abend
UID:InfomaxEvent_100971_iv5
URL:http://pages.destination.one/de/ostseebad-dierhagen/streaming/detail/Ev
 ent/InfomaxEvent_100971/der-gro-e-heinz-erhardt-abend
END:VEVENT
BEGIN:VEVENT
CATEGORIES:Theater & Bühne
DESCRIPTION:Eine Hommage an den Schmunzelmeister der Nation mit Hanno Loyda
 \n\nmehr Informationen unter http://pages.destination.one/de/ostseebad-die
 rhagen/streaming/detail/Event/InfomaxEvent_100971/der-gro-e-heinz-erhardt-
 abend
DTEND;TZID=Europe/Berlin:20251010T201500
DTSTAMP:20260424T082454Z
DTSTART;TZID=Europe/Berlin:20251010T200000
GEO:54.384500;12.429200
LOCATION:Romantik Hotel Fischerwiege\, Schifferberg 9a\, Ahrenshoop
ORGANIZER;CN=Romantik Hotel Fischerwiege :mailto:info@hotel-namenlos.de
SEQUENCE:0
SUMMARY:Der große Heinz-Erhardt-Abend
UID:InfomaxEvent_100971_iv6
URL:http://pages.destination.one/de/ostseebad-dierhagen/streaming/detail/Ev
 ent/InfomaxEvent_100971/der-gro-e-heinz-erhardt-abend
END:VEVENT
BEGIN:VEVENT
CATEGORIES:Theater & Bühne
DESCRIPTION:Eine Hommage an den Schmunzelmeister der Nation mit Hanno Loyda
 \n\nmehr Informationen unter http://pages.destination.one/de/ostseebad-die
 rhagen/streaming/detail/Event/InfomaxEvent_100971/der-gro-e-heinz-erhardt-
 abend
DTEND;TZID=Europe/Berlin:20251031T201500
DTSTAMP:20260424T082454Z
DTSTART;TZID=Europe/Berlin:20251031T200000
GEO:54.384500;12.429200
LOCATION:Romantik Hotel Fischerwiege\, Schifferberg 9a\, Ahrenshoop
ORGANIZER;CN=Romantik Hotel Fischerwiege :mailto:info@hotel-namenlos.de
SEQUENCE:0
SUMMARY:Der große Heinz-Erhardt-Abend
UID:InfomaxEvent_100971_iv7
URL:http://pages.destination.one/de/ostseebad-dierhagen/streaming/detail/Ev
 ent/InfomaxEvent_100971/der-gro-e-heinz-erhardt-abend
END:VEVENT
BEGIN:VEVENT
CATEGORIES:Theater & Bühne
DESCRIPTION:Eine Hommage an den Schmunzelmeister der Nation mit Hanno Loyda
 \n\nmehr Informationen unter http://pages.destination.one/de/ostseebad-die
 rhagen/streaming/detail/Event/InfomaxEvent_100971/der-gro-e-heinz-erhardt-
 abend
DTEND;TZID=Europe/Berlin:20260523T201500
DTSTAMP:20260424T082454Z
DTSTART;TZID=Europe/Berlin:20260523T200000
GEO:54.384500;12.429200
LOCATION:Romantik Hotel Fischerwiege\, Schifferberg 9a\, Ahrenshoop
ORGANIZER;CN=Romantik Hotel Fischerwiege :mailto:info@hotel-namenlos.de
SEQUENCE:0
SUMMARY:Der große Heinz-Erhardt-Abend
UID:InfomaxEvent_100971_iv8
URL:http://pages.destination.one/de/ostseebad-dierhagen/streaming/detail/Ev
 ent/InfomaxEvent_100971/der-gro-e-heinz-erhardt-abend
END:VEVENT
BEGIN:VEVENT
CATEGORIES:Theater & Bühne
DESCRIPTION:Eine Hommage an den Schmunzelmeister der Nation mit Hanno Loyda
 \n\nmehr Informationen unter http://pages.destination.one/de/ostseebad-die
 rhagen/streaming/detail/Event/InfomaxEvent_100971/der-gro-e-heinz-erhardt-
 abend
DTEND;TZID=Europe/Berlin:20260605T201500
DTSTAMP:20260424T082454Z
DTSTART;TZID=Europe/Berlin:20260605T200000
GEO:54.384500;12.429200
LOCATION:Romantik Hotel Fischerwiege\, Schifferberg 9a\, Ahrenshoop
ORGANIZER;CN=Romantik Hotel Fischerwiege :mailto:info@hotel-namenlos.de
SEQUENCE:0
SUMMARY:Der große Heinz-Erhardt-Abend
UID:InfomaxEvent_100971_iv9
URL:http://pages.destination.one/de/ostseebad-dierhagen/streaming/detail/Ev
 ent/InfomaxEvent_100971/der-gro-e-heinz-erhardt-abend
END:VEVENT
BEGIN:VTIMEZONE
TZID:Europe/Berlin
X-LIC-LOCATION:Europe/Berlin
BEGIN:DAYLIGHT
DTSTART:19700329T020000
RRULE:FREQ=YEARLY;BYDAY=-1SU;BYMONTH=3
TZNAME:CEST
TZOFFSETFROM:+0100
TZOFFSETTO:+0200
END:DAYLIGHT
BEGIN:STANDARD
DTSTART:19701025T030000
RRULE:FREQ=YEARLY;BYDAY=-1SU;BYMONTH=10
TZNAME:CET
TZOFFSETFROM:+0200
TZOFFSETTO:+0100
END:STANDARD
END:VTIMEZONE
END:VCALENDAR
