BEGIN:VCALENDAR
VERSION:2.0
PRODID:-//destination.one//NONSGML destination.meta API//DE
X-WR-CALDESC:A calendar powered by destination.meta
X-WR-CALNAME:ostseebad-dierhagen Kalender via destination.meta
BEGIN:VEVENT
CATEGORIES:Sport
DESCRIPTION:Vitalisierender Yoga-Mix in Balance von Körper\, Geist & Seele\
 n\nmehr Informationen unter http://pages.destination.one/de/ostseebad-dier
 hagen/streaming/detail/Event/InfomaxEvent_100355/feel-it-yoga-f-r-alle
DTEND;TZID=Europe/Berlin:20260422T200000
DTSTAMP:20260423T092346Z
DTSTART;TZID=Europe/Berlin:20260422T190000
GEO:54.347760;12.392720
LOCATION:Fischlandhalle\, Direktor-Schütz-Weg\, Ostseebad Wustrow
SEQUENCE:0
SUMMARY:FEEL IT - Yoga für alle
UID:InfomaxEvent_100355_iv0
URL:http://pages.destination.one/de/ostseebad-dierhagen/streaming/detail/Ev
 ent/InfomaxEvent_100355/feel-it-yoga-f-r-alle
END:VEVENT
BEGIN:VEVENT
CATEGORIES:Sport
DESCRIPTION:Vitalisierender Yoga-Mix in Balance von Körper\, Geist & Seele\
 n\nmehr Informationen unter http://pages.destination.one/de/ostseebad-dier
 hagen/streaming/detail/Event/InfomaxEvent_100355/feel-it-yoga-f-r-alle
DTEND;TZID=Europe/Berlin:20260429T200000
DTSTAMP:20260423T092346Z
DTSTART;TZID=Europe/Berlin:20260429T190000
GEO:54.347760;12.392720
LOCATION:Fischlandhalle\, Direktor-Schütz-Weg\, Ostseebad Wustrow
SEQUENCE:0
SUMMARY:FEEL IT - Yoga für alle
UID:InfomaxEvent_100355_iv1
URL:http://pages.destination.one/de/ostseebad-dierhagen/streaming/detail/Ev
 ent/InfomaxEvent_100355/feel-it-yoga-f-r-alle
END:VEVENT
BEGIN:VEVENT
CATEGORIES:Sport
DESCRIPTION:Vitalisierender Yoga-Mix in Balance von Körper\, Geist & Seele\
 n\nmehr Informationen unter http://pages.destination.one/de/ostseebad-dier
 hagen/streaming/detail/Event/InfomaxEvent_100355/feel-it-yoga-f-r-alle
DTEND;TZID=Europe/Berlin:20260506T200000
DTSTAMP:20260423T092346Z
DTSTART;TZID=Europe/Berlin:20260506T190000
GEO:54.347760;12.392720
LOCATION:Fischlandhalle\, Direktor-Schütz-Weg\, Ostseebad Wustrow
SEQUENCE:0
SUMMARY:FEEL IT - Yoga für alle
UID:InfomaxEvent_100355_iv2
URL:http://pages.destination.one/de/ostseebad-dierhagen/streaming/detail/Ev
 ent/InfomaxEvent_100355/feel-it-yoga-f-r-alle
END:VEVENT
BEGIN:VEVENT
CATEGORIES:Sport
DESCRIPTION:Vitalisierender Yoga-Mix in Balance von Körper\, Geist & Seele\
 n\nmehr Informationen unter http://pages.destination.one/de/ostseebad-dier
 hagen/streaming/detail/Event/InfomaxEvent_100355/feel-it-yoga-f-r-alle
DTEND;TZID=Europe/Berlin:20260513T200000
DTSTAMP:20260423T092346Z
DTSTART;TZID=Europe/Berlin:20260513T190000
GEO:54.347760;12.392720
LOCATION:Fischlandhalle\, Direktor-Schütz-Weg\, Ostseebad Wustrow
SEQUENCE:0
SUMMARY:FEEL IT - Yoga für alle
UID:InfomaxEvent_100355_iv3
URL:http://pages.destination.one/de/ostseebad-dierhagen/streaming/detail/Ev
 ent/InfomaxEvent_100355/feel-it-yoga-f-r-alle
END:VEVENT
BEGIN:VEVENT
CATEGORIES:Sport
DESCRIPTION:Vitalisierender Yoga-Mix in Balance von Körper\, Geist & Seele\
 n\nmehr Informationen unter http://pages.destination.one/de/ostseebad-dier
 hagen/streaming/detail/Event/InfomaxEvent_100355/feel-it-yoga-f-r-alle
DTEND;TZID=Europe/Berlin:20260520T200000
DTSTAMP:20260423T092346Z
DTSTART;TZID=Europe/Berlin:20260520T190000
GEO:54.347760;12.392720
LOCATION:Fischlandhalle\, Direktor-Schütz-Weg\, Ostseebad Wustrow
SEQUENCE:0
SUMMARY:FEEL IT - Yoga für alle
UID:InfomaxEvent_100355_iv4
URL:http://pages.destination.one/de/ostseebad-dierhagen/streaming/detail/Ev
 ent/InfomaxEvent_100355/feel-it-yoga-f-r-alle
END:VEVENT
BEGIN:VEVENT
CATEGORIES:Sport
DESCRIPTION:Vitalisierender Yoga-Mix in Balance von Körper\, Geist & Seele\
 n\nmehr Informationen unter http://pages.destination.one/de/ostseebad-dier
 hagen/streaming/detail/Event/InfomaxEvent_100355/feel-it-yoga-f-r-alle
DTEND;TZID=Europe/Berlin:20260527T200000
DTSTAMP:20260423T092346Z
DTSTART;TZID=Europe/Berlin:20260527T190000
GEO:54.347760;12.392720
LOCATION:Fischlandhalle\, Direktor-Schütz-Weg\, Ostseebad Wustrow
SEQUENCE:0
SUMMARY:FEEL IT - Yoga für alle
UID:InfomaxEvent_100355_iv5
URL:http://pages.destination.one/de/ostseebad-dierhagen/streaming/detail/Ev
 ent/InfomaxEvent_100355/feel-it-yoga-f-r-alle
END:VEVENT
BEGIN:VEVENT
CATEGORIES:Sport
DESCRIPTION:Vitalisierender Yoga-Mix in Balance von Körper\, Geist & Seele\
 n\nmehr Informationen unter http://pages.destination.one/de/ostseebad-dier
 hagen/streaming/detail/Event/InfomaxEvent_100355/feel-it-yoga-f-r-alle
DTEND;TZID=Europe/Berlin:20260603T200000
DTSTAMP:20260423T092346Z
DTSTART;TZID=Europe/Berlin:20260603T190000
GEO:54.347760;12.392720
LOCATION:Fischlandhalle\, Direktor-Schütz-Weg\, Ostseebad Wustrow
SEQUENCE:0
SUMMARY:FEEL IT - Yoga für alle
UID:InfomaxEvent_100355_iv6
URL:http://pages.destination.one/de/ostseebad-dierhagen/streaming/detail/Ev
 ent/InfomaxEvent_100355/feel-it-yoga-f-r-alle
END:VEVENT
BEGIN:VEVENT
CATEGORIES:Sport
DESCRIPTION:Vitalisierender Yoga-Mix in Balance von Körper\, Geist & Seele\
 n\nmehr Informationen unter http://pages.destination.one/de/ostseebad-dier
 hagen/streaming/detail/Event/InfomaxEvent_100355/feel-it-yoga-f-r-alle
DTEND;TZID=Europe/Berlin:20260610T200000
DTSTAMP:20260423T092346Z
DTSTART;TZID=Europe/Berlin:20260610T190000
GEO:54.347760;12.392720
LOCATION:Fischlandhalle\, Direktor-Schütz-Weg\, Ostseebad Wustrow
SEQUENCE:0
SUMMARY:FEEL IT - Yoga für alle
UID:InfomaxEvent_100355_iv7
URL:http://pages.destination.one/de/ostseebad-dierhagen/streaming/detail/Ev
 ent/InfomaxEvent_100355/feel-it-yoga-f-r-alle
END:VEVENT
BEGIN:VEVENT
CATEGORIES:Sport
DESCRIPTION:Vitalisierender Yoga-Mix in Balance von Körper\, Geist & Seele\
 n\nmehr Informationen unter http://pages.destination.one/de/ostseebad-dier
 hagen/streaming/detail/Event/InfomaxEvent_100355/feel-it-yoga-f-r-alle
DTEND;TZID=Europe/Berlin:20260617T200000
DTSTAMP:20260423T092346Z
DTSTART;TZID=Europe/Berlin:20260617T190000
GEO:54.347760;12.392720
LOCATION:Fischlandhalle\, Direktor-Schütz-Weg\, Ostseebad Wustrow
SEQUENCE:0
SUMMARY:FEEL IT - Yoga für alle
UID:InfomaxEvent_100355_iv8
URL:http://pages.destination.one/de/ostseebad-dierhagen/streaming/detail/Ev
 ent/InfomaxEvent_100355/feel-it-yoga-f-r-alle
END:VEVENT
BEGIN:VEVENT
CATEGORIES:Sport
DESCRIPTION:Vitalisierender Yoga-Mix in Balance von Körper\, Geist & Seele\
 n\nmehr Informationen unter http://pages.destination.one/de/ostseebad-dier
 hagen/streaming/detail/Event/InfomaxEvent_100355/feel-it-yoga-f-r-alle
DTEND;TZID=Europe/Berlin:20260624T200000
DTSTAMP:20260423T092346Z
DTSTART;TZID=Europe/Berlin:20260624T190000
GEO:54.347760;12.392720
LOCATION:Fischlandhalle\, Direktor-Schütz-Weg\, Ostseebad Wustrow
SEQUENCE:0
SUMMARY:FEEL IT - Yoga für alle
UID:InfomaxEvent_100355_iv9
URL:http://pages.destination.one/de/ostseebad-dierhagen/streaming/detail/Ev
 ent/InfomaxEvent_100355/feel-it-yoga-f-r-alle
END:VEVENT
BEGIN:VEVENT
CATEGORIES:Sport
DESCRIPTION:Vitalisierender Yoga-Mix in Balance von Körper\, Geist & Seele\
 n\nmehr Informationen unter http://pages.destination.one/de/ostseebad-dier
 hagen/streaming/detail/Event/InfomaxEvent_100355/feel-it-yoga-f-r-alle
DTEND;TZID=Europe/Berlin:20260701T200000
DTSTAMP:20260423T092346Z
DTSTART;TZID=Europe/Berlin:20260701T190000
GEO:54.347760;12.392720
LOCATION:Fischlandhalle\, Direktor-Schütz-Weg\, Ostseebad Wustrow
SEQUENCE:0
SUMMARY:FEEL IT - Yoga für alle
UID:InfomaxEvent_100355_iv10
URL:http://pages.destination.one/de/ostseebad-dierhagen/streaming/detail/Ev
 ent/InfomaxEvent_100355/feel-it-yoga-f-r-alle
END:VEVENT
BEGIN:VEVENT
CATEGORIES:Sport
DESCRIPTION:Vitalisierender Yoga-Mix in Balance von Körper\, Geist & Seele\
 n\nmehr Informationen unter http://pages.destination.one/de/ostseebad-dier
 hagen/streaming/detail/Event/InfomaxEvent_100355/feel-it-yoga-f-r-alle
DTEND;TZID=Europe/Berlin:20260708T200000
DTSTAMP:20260423T092346Z
DTSTART;TZID=Europe/Berlin:20260708T190000
GEO:54.347760;12.392720
LOCATION:Fischlandhalle\, Direktor-Schütz-Weg\, Ostseebad Wustrow
SEQUENCE:0
SUMMARY:FEEL IT - Yoga für alle
UID:InfomaxEvent_100355_iv11
URL:http://pages.destination.one/de/ostseebad-dierhagen/streaming/detail/Ev
 ent/InfomaxEvent_100355/feel-it-yoga-f-r-alle
END:VEVENT
BEGIN:VEVENT
CATEGORIES:Sport
DESCRIPTION:Vitalisierender Yoga-Mix in Balance von Körper\, Geist & Seele\
 n\nmehr Informationen unter http://pages.destination.one/de/ostseebad-dier
 hagen/streaming/detail/Event/InfomaxEvent_100355/feel-it-yoga-f-r-alle
DTEND;TZID=Europe/Berlin:20260715T200000
DTSTAMP:20260423T092346Z
DTSTART;TZID=Europe/Berlin:20260715T190000
GEO:54.347760;12.392720
LOCATION:Fischlandhalle\, Direktor-Schütz-Weg\, Ostseebad Wustrow
SEQUENCE:0
SUMMARY:FEEL IT - Yoga für alle
UID:InfomaxEvent_100355_iv12
URL:http://pages.destination.one/de/ostseebad-dierhagen/streaming/detail/Ev
 ent/InfomaxEvent_100355/feel-it-yoga-f-r-alle
END:VEVENT
BEGIN:VEVENT
CATEGORIES:Sport
DESCRIPTION:Vitalisierender Yoga-Mix in Balance von Körper\, Geist & Seele\
 n\nmehr Informationen unter http://pages.destination.one/de/ostseebad-dier
 hagen/streaming/detail/Event/InfomaxEvent_100355/feel-it-yoga-f-r-alle
DTEND;TZID=Europe/Berlin:20260722T200000
DTSTAMP:20260423T092346Z
DTSTART;TZID=Europe/Berlin:20260722T190000
GEO:54.347760;12.392720
LOCATION:Fischlandhalle\, Direktor-Schütz-Weg\, Ostseebad Wustrow
SEQUENCE:0
SUMMARY:FEEL IT - Yoga für alle
UID:InfomaxEvent_100355_iv13
URL:http://pages.destination.one/de/ostseebad-dierhagen/streaming/detail/Ev
 ent/InfomaxEvent_100355/feel-it-yoga-f-r-alle
END:VEVENT
BEGIN:VEVENT
CATEGORIES:Sport
DESCRIPTION:Vitalisierender Yoga-Mix in Balance von Körper\, Geist & Seele\
 n\nmehr Informationen unter http://pages.destination.one/de/ostseebad-dier
 hagen/streaming/detail/Event/InfomaxEvent_100355/feel-it-yoga-f-r-alle
DTEND;TZID=Europe/Berlin:20260729T200000
DTSTAMP:20260423T092346Z
DTSTART;TZID=Europe/Berlin:20260729T190000
GEO:54.347760;12.392720
LOCATION:Fischlandhalle\, Direktor-Schütz-Weg\, Ostseebad Wustrow
SEQUENCE:0
SUMMARY:FEEL IT - Yoga für alle
UID:InfomaxEvent_100355_iv14
URL:http://pages.destination.one/de/ostseebad-dierhagen/streaming/detail/Ev
 ent/InfomaxEvent_100355/feel-it-yoga-f-r-alle
END:VEVENT
BEGIN:VEVENT
CATEGORIES:Sport
DESCRIPTION:Vitalisierender Yoga-Mix in Balance von Körper\, Geist & Seele\
 n\nmehr Informationen unter http://pages.destination.one/de/ostseebad-dier
 hagen/streaming/detail/Event/InfomaxEvent_100355/feel-it-yoga-f-r-alle
DTEND;TZID=Europe/Berlin:20260805T200000
DTSTAMP:20260423T092346Z
DTSTART;TZID=Europe/Berlin:20260805T190000
GEO:54.347760;12.392720
LOCATION:Fischlandhalle\, Direktor-Schütz-Weg\, Ostseebad Wustrow
SEQUENCE:0
SUMMARY:FEEL IT - Yoga für alle
UID:InfomaxEvent_100355_iv15
URL:http://pages.destination.one/de/ostseebad-dierhagen/streaming/detail/Ev
 ent/InfomaxEvent_100355/feel-it-yoga-f-r-alle
END:VEVENT
BEGIN:VEVENT
CATEGORIES:Sport
DESCRIPTION:Vitalisierender Yoga-Mix in Balance von Körper\, Geist & Seele\
 n\nmehr Informationen unter http://pages.destination.one/de/ostseebad-dier
 hagen/streaming/detail/Event/InfomaxEvent_100355/feel-it-yoga-f-r-alle
DTEND;TZID=Europe/Berlin:20260812T200000
DTSTAMP:20260423T092346Z
DTSTART;TZID=Europe/Berlin:20260812T190000
GEO:54.347760;12.392720
LOCATION:Fischlandhalle\, Direktor-Schütz-Weg\, Ostseebad Wustrow
SEQUENCE:0
SUMMARY:FEEL IT - Yoga für alle
UID:InfomaxEvent_100355_iv16
URL:http://pages.destination.one/de/ostseebad-dierhagen/streaming/detail/Ev
 ent/InfomaxEvent_100355/feel-it-yoga-f-r-alle
END:VEVENT
BEGIN:VEVENT
CATEGORIES:Sport
DESCRIPTION:Vitalisierender Yoga-Mix in Balance von Körper\, Geist & Seele\
 n\nmehr Informationen unter http://pages.destination.one/de/ostseebad-dier
 hagen/streaming/detail/Event/InfomaxEvent_100355/feel-it-yoga-f-r-alle
DTEND;TZID=Europe/Berlin:20260819T200000
DTSTAMP:20260423T092346Z
DTSTART;TZID=Europe/Berlin:20260819T190000
GEO:54.347760;12.392720
LOCATION:Fischlandhalle\, Direktor-Schütz-Weg\, Ostseebad Wustrow
SEQUENCE:0
SUMMARY:FEEL IT - Yoga für alle
UID:InfomaxEvent_100355_iv17
URL:http://pages.destination.one/de/ostseebad-dierhagen/streaming/detail/Ev
 ent/InfomaxEvent_100355/feel-it-yoga-f-r-alle
END:VEVENT
BEGIN:VEVENT
CATEGORIES:Sport
DESCRIPTION:Vitalisierender Yoga-Mix in Balance von Körper\, Geist & Seele\
 n\nmehr Informationen unter http://pages.destination.one/de/ostseebad-dier
 hagen/streaming/detail/Event/InfomaxEvent_100355/feel-it-yoga-f-r-alle
DTEND;TZID=Europe/Berlin:20260826T200000
DTSTAMP:20260423T092346Z
DTSTART;TZID=Europe/Berlin:20260826T190000
GEO:54.347760;12.392720
LOCATION:Fischlandhalle\, Direktor-Schütz-Weg\, Ostseebad Wustrow
SEQUENCE:0
SUMMARY:FEEL IT - Yoga für alle
UID:InfomaxEvent_100355_iv18
URL:http://pages.destination.one/de/ostseebad-dierhagen/streaming/detail/Ev
 ent/InfomaxEvent_100355/feel-it-yoga-f-r-alle
END:VEVENT
BEGIN:VTIMEZONE
TZID:Europe/Berlin
X-LIC-LOCATION:Europe/Berlin
BEGIN:DAYLIGHT
DTSTART:19700329T020000
RRULE:FREQ=YEARLY;BYDAY=-1SU;BYMONTH=3
TZNAME:CEST
TZOFFSETFROM:+0100
TZOFFSETTO:+0200
END:DAYLIGHT
BEGIN:STANDARD
DTSTART:19701025T030000
RRULE:FREQ=YEARLY;BYDAY=-1SU;BYMONTH=10
TZNAME:CET
TZOFFSETFROM:+0200
TZOFFSETTO:+0100
END:STANDARD
END:VTIMEZONE
END:VCALENDAR
